Workbook
Name Briggs: Settings!$I$3:$I$19
Name Briggs2: Settings!$I$3:$I$19
Name Briggs3: Settings!$H$2:$H$18
Name crtdate: Genealogy!$B$4
Name estimated_wordcount: Dashboard!$D$11
Name novel_genre: Dashboard!$D$8
Name novel_title: Dashboard!$D$3
Name present_date: Dashboard!$D$19
Name scene_count: Dashboard!$D$12
Name Scene_Purpose: Settings!$A$2:$A$5
Name Scene_Type: Settings!$B$2:$B$4
Name session_count: 'Word-Tracker'!$C$5
Name total_wc: 'Word-Tracker'!$B$207

Sheet Instructions
B2: Name: | C2: Master Outlining and Tracking Tool
B3: Purpose: | C3: Assist in outlining and tracking of a long-fiction manuscript in progress
B4: Author: | C4: Iulian Ionescu
B5: Website: | C5: http://www.iulianionescu.com
B6: License: | C6: Creative Commons 2.0 - Free to use, share, and modify, but keep credits to original author
B7: Version: | C7: v1.0
B8: Release: | C8: 42557
B9: Originally Published: | C9: http://www.fantasyscroll.com/master-outlining-and-tracking-tool-for-novels/
B12: Tab | C12: Instructions
B14: Dashboard | C14: Used to setup the general options for the worksheet
C15: The most important fields are:
C16: Novel title - this gets imported in all other sheets
C17: Present date - this defines what is "today" for your novel. For example, if your novel's main action happens in 1950, than Jan 1, 1950 would be the present date. This date is used to calculate character ages in later sheets
C18: Estimated Word count - this is used by the tracker to calculate your progress
C19: Approximate Scene count - this number is prefilled to 81. If you add manual scenes, make sure to update this number to match your number of scenes.
B21: Part 1 | C21: This is the first part of the outlining which is divided into 4 separate steps:
C22: Step 1: create your novel's one line. This is a sentence of 15-25 words that describes your novel completely. Think "…"
C23: Step 2: Take the sentence from Step 1 and break it down into 3 sentences. Think of them in terms of Beginning, Middle, and End. You should wind up with one paragraph that describes your novel in more detail.
C24: Step 3: You will no expand each of the 3 sentences from Step 2 into 3 sentences each. Think of it in terms of beginning of the beginning, middle of the beginning, and ending of the beginning. You will wind up with 9 sentences that start to resamble a short synopsis of your novel.
C25: Step 4: Now you will split each of the sentences in Step 3 into 3 sub-sentences. The worksheet smartly brings each sentence in front of you as you walk down the sheet, so you always have the sentence you work on in front of your eyes. At the end of step 4 you will have 27 sentences that start to resemble a medium-length synopsis of your novel.
B27: Part 1-recap | C27: This sheet reorganizes the 27 sentences in the previous Step 4 and puts them one under the other.
C28: On the right side, it matches approximately what stage of your novel the scene should fall into, based on generally acceptable novel structures based on the 3-Act structure. This is just a guideline and suggestion. Your novel might be different. If that's the case, feel free to adjust the right side to match what you have.
C29: Read this page a few times until it makes sense and sounds right. You should be able to use this as your novel's elevator pitch.
B31: Part 2 | C31: In part two, the sheet will give you each of the 27 sentences that you created prior and will ask you to split each into 3 sentences.
C32: At this point, start thinking at scene level. At the end of this you will wind up with 81 sentences, each representing a scene in your novel. Don't despair if a part must be split in less or more than 3 scenes. Try your best to split it into 3 and you will be able to adjust later.
B34: Scenes | C34: The 81 sentences from the step before are not your scenes. In the scenes tab you will start categorizing your scenes.
C35: The system automatically assignes a word count based on the estimated word count you gave in the dashboard. There are two other columns there: actual word count (you will fill this in as you write) and cumulative word count (which is calculated automatically). Note that this sheet has filters in the headers. This means that you can click the arrow in the header and filter the table. For instance, you can show only Major scenes, or only scenes where POV is John Doe.
C36: Description of columns:
C37: Ch: What chapter is this scene going to be in? Make choices and you can adjust later. If you care about sizes of chapters you can use an analytics chart later on that shows you word count by chapter
C38: POV: Who is the point of view character in this scene. In a first person this is always the first person character, and in an omniscient view, this can be ignored.
C39: Setting: Just a generic hint as to where the scene takes place. Think like a script: "new york," "John's kitchen," etc.
C40: Characters: Just the names of the main people in that scene. You can think about it simply: people who talk or have some thoughts in the scene. You can use initials
C41: Purpose: why does this scene exist? Is it to push the plot forward, to shape up your character, or to describe something?
C42: Type: is this an active scene (something is happening TO your POV character), or a reactive scene (your POV character DOES something in response)
C43: M/m: Is this a (M)ajor scene or a (m)inor scene? This will be important for when you start writing the scenes and prioritize the major ones first.
C44: Actual Intensity: This is a number from 0 to 100, where 0 is no emotional intensity and 100 is maximum emotional intensity. As you modify the intensity the color will change automatically (red = more intense, green = less intense)
B46: Character List | C46: This is a list of characters in your novel (major and minor)
C47: In the relationship column you can give some hints such as: "son of john," "wife of roger," etc. The full name and the initials are computed automatically
C48: On the right side there's a simple calculator that tells you how many first names start with
C49: the same letter. There's no strong rule, but ideally you should limit them to avoid confusion
...

Sheet Dashboard
C1: Novel Dashboard
C3: Novel Title | D3: Enter Novel Title Here
C4: Novel Sub-Title
C5: Series Name | D5: Optional, if part of a series
C6: Book Number in series | D6: 0
C7: Author | D7: John Doe
C8: Genre | D8: Fantasy | E8: List of Genres & Subgenres
C9: Sub-Genre | D9: Epic-Fantasy
C10: Target Market | D10: Adult | E10: Adult / YA / etc.
C11: Estimated Word Count | D11: 81000 | E11: Best guess or check this post
C12: Approximate # of scenes | D12: 81 | E12: Default is 81
C14: This book is a lot like…
C15: and also like…
C16: This book reminds you of this movie…
C17: and also of this movie…
C19: Novel's Current Date | D19: 42370 | E19: What date is "present"?
C21: I started writing this novel on | D21: 42005 | E21: Date you wrote the first word
C22: I will finished writing this novel on | D22: =D21+60 -> 42065 | E22: Estimated date to finish

Sheet Part-1
A2: Title | B2: =novel_title -> Enter Novel Title Here | G2: Words
A4: Level
A5: 1 | B5: Enter your one-line story description here, then break it down in 3 on the next 3 lines | G5: =LEN(TRIM(B5))-LEN(SUBSTITUTE(TRIM(B5)," ",""))+1 -> 17
A7: 2.1 | C7: Part 1 is the beginning | G7: =LEN(TRIM(C7))-LEN(SUBSTITUTE(TRIM(C7)," ",""))+1 -> 5
A8: 2.2 | C8: Part 2 is the middle | G8: =LEN(TRIM(C8))-LEN(SUBSTITUTE(TRIM(C8)," ",""))+1 -> 5 | H8: =SUBSTITUTE(SUBSTITUTE(SUBSTITUTE(SUBSTITUTE(SUBSTITUTE(SUBSTITUTE(TRIM(B8),","," "),"."," "),"-"," "),";", " ")," ", "")," ","")
A9: 2.3 | C9: Part 3 is the ending | G9: =LEN(TRIM(C9))-LEN(SUBSTITUTE(TRIM(C9)," ",""))+1 -> 5 | H9: =SUBSTITUTE(SUBSTITUTE(SUBSTITUTE(SUBSTITUTE(SUBSTITUTE(SUBSTITUTE(TRIM(B9),","," "),"."," "),"-"," "),";", " ")," ", "")," ","")
B11: =A7 -> 2.1 | C11: =C7 -> Part 1 is the beginning
A12: 2.1.1 | D12: Beginning part 1 | G12: =LEN(TRIM(D12))-LEN(SUBSTITUTE(TRIM(D12)," ",""))+1 -> 3
A13: 2.1.2 | D13: Beginning part 2 | G13: =LEN(TRIM(D13))-LEN(SUBSTITUTE(TRIM(D13)," ",""))+1 -> 3
A14: 2.1.3 | D14: Beginning part 3 | G14: =LEN(TRIM(D14))-LEN(SUBSTITUTE(TRIM(D14)," ",""))+1 -> 3
B16: =A8 -> 2.2 | C16: =C8 -> Part 2 is the middle
A17: 2.2.1 | D17: Middle part 1 | G17: =LEN(TRIM(D17))-LEN(SUBSTITUTE(TRIM(D17)," ",""))+1 -> 3
A18: 2.2.2 | D18: Middle part 2 | G18: =LEN(TRIM(D18))-LEN(SUBSTITUTE(TRIM(D18)," ",""))+1 -> 3
A19: 2.2.3 | D19: Middle part 3 | G19: =LEN(TRIM(D19))-LEN(SUBSTITUTE(TRIM(D19)," ",""))+1 -> 3
B21: =A9 -> 2.3 | C21: =C9 -> Part 3 is the ending
A22: 2.3.1 | D22: Ending part 1 | G22: =LEN(TRIM(D22))-LEN(SUBSTITUTE(TRIM(D22)," ",""))+1 -> 3
A23: 2.3.2 | D23: Ending part 2 | G23: =LEN(TRIM(D23))-LEN(SUBSTITUTE(TRIM(D23)," ",""))+1 -> 3
A24: 2.3.3 | D24: Ending part 3 | G24: =LEN(TRIM(D24))-LEN(SUBSTITUTE(TRIM(D24)," ",""))+1 -> 3
A25: Next, split each part into 3 subparts:
A26: =A12 -> 2.1.1 | D26: =D12 -> Beginning part 1
A27: 2.1.1.1 | E27: Beginning sub-part 11 | G27: =LEN(TRIM(E27))-LEN(SUBSTITUTE(TRIM(E27)," ",""))+1 -> 3
A28: 2.1.1.2 | E28: Beginning sub-part 12 | G28: =LEN(TRIM(E28))-LEN(SUBSTITUTE(TRIM(E28)," ",""))+1 -> 3
A29: 2.1.1.3 | E29: Beginning sub-part 13 | G29: =LEN(TRIM(E29))-LEN(SUBSTITUTE(TRIM(E29)," ",""))+1 -> 3
A31: =A13 -> 2.1.2 | D31: =D13 -> Beginning part 2
A32: 2.1.2.1 | E32: Beginning sub-part 21 | G32: =LEN(TRIM(E32))-LEN(SUBSTITUTE(TRIM(E32)," ",""))+1 -> 3
A33: 2.1.2.2 | E33: Beginning sub-part 22 | G33: =LEN(TRIM(E33))-LEN(SUBSTITUTE(TRIM(E33)," ",""))+1 -> 3
A34: 2.1.2.3 | E34: Beginning sub-part 23 | G34: =LEN(TRIM(E34))-LEN(SUBSTITUTE(TRIM(E34)," ",""))+1 -> 3
A36: =A22 -> 2.3.1 | D36: =D14 -> Beginning part 3
A37: 2.3.1.1 | E37: Beginning sub-part 31 | G37: =LEN(TRIM(E37))-LEN(SUBSTITUTE(TRIM(E37)," ",""))+1 -> 3
A38: 2.3.1.2 | E38: Beginning sub-part 32 | G38: =LEN(TRIM(E38))-LEN(SUBSTITUTE(TRIM(E38)," ",""))+1 -> 3
A39: 2.3.1.3 | E39: Beginning sub-part 33 | G39: =LEN(TRIM(E39))-LEN(SUBSTITUTE(TRIM(E39)," ",""))+1 -> 3
A41: =A17 -> 2.2.1 | D41: =D17 -> Middle part 1
A42: 2.2.1.1 | E42: Middle sub-part 11 | G42: =LEN(TRIM(E42))-LEN(SUBSTITUTE(TRIM(E42)," ",""))+1 -> 3
A43: 2.2.1.2 | E43: Middle sub-part 12 | G43: =LEN(TRIM(E43))-LEN(SUBSTITUTE(TRIM(E43)," ",""))+1 -> 3
A44: 2.2.1.3 | E44: Middle sub-part 13 | G44: =LEN(TRIM(E44))-LEN(SUBSTITUTE(TRIM(E44)," ",""))+1 -> 3
A46: =A18 -> 2.2.2 | D46: =D18 -> Middle part 2
A47: 2.2.2.1 | E47: Middle sub-part 21 | G47: =LEN(TRIM(E47))-LEN(SUBSTITUTE(TRIM(E47)," ",""))+1 -> 3
A48: 2.2.2.2 | E48: Middle sub-part 22 | G48: =LEN(TRIM(E48))-LEN(SUBSTITUTE(TRIM(E48)," ",""))+1 -> 3
A49: 2.2.2.3 | E49: Middle sub-part 23 | G49: =LEN(TRIM(E49))-LEN(SUBSTITUTE(TRIM(E49)," ",""))+1 -> 3
A51: 2.2.3 | D51: =D19 -> Middle part 3
...

Sheet Part-1-recap
A2: Title | B2: =novel_title -> Enter Novel Title Here | C2: =novel_title -> Enter Novel Title Here
C3: Review the high-level structure, make sure it matches roughly to the 3-Act structure
C4: High Level Scene Summary | D4: Acts Analysis
A5: 1 | B5: ='Part-1'!A27 -> 2.1.1.1 | C5: ='Part-1'!E27 -> Beginning sub-part 11 | D5: Act 1 - Intro
A6: 2 | B6: ='Part-1'!A28 -> 2.1.1.2 | C6: ='Part-1'!E28 -> Beginning sub-part 12 | D6: Act 1 - Intro
A7: 3 | B7: ='Part-1'!A29 -> 2.1.1.3 | C7: ='Part-1'!E29 -> Beginning sub-part 13 | D7: Act 1 - Inciting Event
A8: 4 | B8: ='Part-1'!A32 -> 2.1.2.1 | C8: ='Part-1'!E32 -> Beginning sub-part 21 | D8: Act 1 - Inciting Event
A9: 5 | B9: ='Part-1'!A33 -> 2.1.2.2 | C9: ='Part-1'!E33 -> Beginning sub-part 22 | D9: Act 1 - Inciting Event
A10: 6 | B10: ='Part-1'!A34 -> 2.1.2.3 | C10: ='Part-1'!E34 -> Beginning sub-part 23 | D10: Act 1 - Major Problem
A11: 7 | B11: ='Part-1'!A37 -> 2.3.1.1 | C11: ='Part-1'!E37 -> Beginning sub-part 31 | D11: Act 1 - Major Problem
A12: 8 | B12: ='Part-1'!A38 -> 2.3.1.2 | C12: ='Part-1'!E38 -> Beginning sub-part 32 | D12: Act 2 - Choice
A13: 9 | B13: ='Part-1'!A39 -> 2.3.1.3 | C13: ='Part-1'!E39 -> Beginning sub-part 33 | D13: Act 2 - Choice
A14: 10 | B14: ='Part-1'!A42 -> 2.2.1.1 | C14: ='Part-1'!E42 -> Middle sub-part 11 | D14: Act 2 - Choice
A15: 11 | B15: ='Part-1'!A43 -> 2.2.1.2 | C15: ='Part-1'!E43 -> Middle sub-part 12 | D15: Act 2 - Choice
A16: 12 | B16: ='Part-1'!A44 -> 2.2.1.3 | C16: ='Part-1'!E44 -> Middle sub-part 13 | D16: Act 2 - Midpoint reversal
A17: 13 | B17: ='Part-1'!A47 -> 2.2.2.1 | C17: ='Part-1'!E47 -> Middle sub-part 21 | D17: Act 2 - Midpoint reversal
A18: 14 | B18: ='Part-1'!A48 -> 2.2.2.2 | C18: ='Part-1'!E48 -> Middle sub-part 22 | D18: Act 2 - Midpoint reversal
A19: 15 | B19: ='Part-1'!A49 -> 2.2.2.3 | C19: ='Part-1'!E49 -> Middle sub-part 23 | D19: Act 2 - Midpoint reversal
A20: 16 | B20: ='Part-1'!A52 -> 2.2.3.1 | C20: ='Part-1'!E52 -> Middle sub-part 31 | D20: Act 2 - Midpoint reversal
A21: 17 | B21: ='Part-1'!A53 -> 2.2.3.2 | C21: ='Part-1'!E53 -> Middle sub-part 32 | D21: Act 2 - Disaster
A22: 18 | B22: ='Part-1'!A54 -> 2.2.3.3 | C22: ='Part-1'!E54 -> Middle sub-part 33 | D22: Act 2 - Disaster
A23: 19 | B23: ='Part-1'!A57 -> 2.3.1.1 | C23: ='Part-1'!E57 -> Ending sub-part 11 | D23: Act 2 - Disaster
A24: 20 | B24: ='Part-1'!A58 -> 2.3.1.2 | C24: ='Part-1'!E58 -> Ending sub-part 12 | D24: Act 2 - Disaster
A25: 21 | B25: ='Part-1'!A59 -> 2.3.1.3 | C25: ='Part-1'!E59 -> Ending sub-part 13 | D25: Act 3 - Plan
A26: 22 | B26: ='Part-1'!A62 -> 2.3.2.1 | C26: ='Part-1'!E62 -> Ending sub-part 21 | D26: Act 3 - Plan
A27: 23 | B27: ='Part-1'!A63 -> 2.3.2.2 | C27: ='Part-1'!E63 -> Ending sub-part 22 | D27: Act 3 - Plan
A28: 24 | B28: ='Part-1'!A64 -> 2.3.2.3 | C28: ='Part-1'!E64 -> Ending sub-part 23 | D28: Act 3 - Climax
A29: 25 | B29: ='Part-1'!A67 -> 2.3.3.1 | C29: ='Part-1'!E67 -> Ending sub-part 11 | D29: Act 3 - Climax
A30: 26 | B30: ='Part-1'!A68 -> 2.3.3.2 | C30: ='Part-1'!E68 -> Ending sub-part 12 | D30: Act 3 - Climax
A31: 27 | B31: ='Part-1'!A69 -> 2.3.3.3 | C31: ='Part-1'!E69 -> Ending sub-part 13 | D31: Act 3 - Wrap Up

Sheet Part 2
B2: ="Title: " & novel_title -> Title: Enter Novel Title Here
B3: Describe the scenes by splitting each high-level part into 3 scenes
A4: ID | B4: Top Level | C4: ID | D4: Scene
A5: ='Part-1-recap'!A5 -> 1 | B5: ='Part-1-recap'!C5 -> Beginning sub-part 11 | C5: 1 | D5: scene 1
C6: 2 | D6: scene 2
C7: 3 | D7: scene 3
A8: ='Part-1-recap'!A6 -> 2 | B8: ='Part-1-recap'!C6 -> Beginning sub-part 12 | C8: 4 | D8: scene 4
C9: 5 | D9: scene 5
C10: 6 | D10: scene 6
A11: ='Part-1-recap'!A7 -> 3 | B11: ='Part-1-recap'!C7 -> Beginning sub-part 13 | C11: 7 | D11: scene 7
C12: 8 | D12: scene 8
C13: 9 | D13: scene 9
A14: ='Part-1-recap'!A8 -> 4 | B14: ='Part-1-recap'!C8 -> Beginning sub-part 21 | C14: 10 | D14: scene 10
C15: 11 | D15: scene 11
C16: 12 | D16: scene 12
A17: ='Part-1-recap'!A9 -> 5 | B17: ='Part-1-recap'!C9 -> Beginning sub-part 22 | C17: 13 | D17: scene 13
C18: 14 | D18: scene 14
C19: 15 | D19: scene 15
A20: ='Part-1-recap'!A10 -> 6 | B20: ='Part-1-recap'!C10 -> Beginning sub-part 23 | C20: 16 | D20: scene 16
C21: 17 | D21: scene 17
C22: 18 | D22: scene 18
A23: ='Part-1-recap'!A11 -> 7 | B23: ='Part-1-recap'!C11 -> Beginning sub-part 31 | C23: 19 | D23: scene 19
C24: 20 | D24: scene 20
C25: 21 | D25: scene 21
A26: ='Part-1-recap'!A12 -> 8 | B26: ='Part-1-recap'!C12 -> Beginning sub-part 32 | C26: 22 | D26: scene 22
C27: 23 | D27: scene 23
C28: 24 | D28: scene 24
A29: ='Part-1-recap'!A13 -> 9 | B29: ='Part-1-recap'!C13 -> Beginning sub-part 33 | C29: 25 | D29: scene 25
C30: 26 | D30: scene 26
C31: 27 | D31: scene 27
A32: ='Part-1-recap'!A14 -> 10 | B32: ='Part-1-recap'!C14 -> Middle sub-part 11 | C32: 28 | D32: scene 28
C33: 29 | D33: scene 29
C34: 30 | D34: scene 30
A35: ='Part-1-recap'!A15 -> 11 | B35: ='Part-1-recap'!C15 -> Middle sub-part 12 | C35: 31 | D35: scene 31
C36: 32 | D36: scene 32
C37: 33 | D37: scene 33
A38: ='Part-1-recap'!A16 -> 12 | B38: ='Part-1-recap'!C16 -> Middle sub-part 13 | C38: 34 | D38: scene 34
C39: 35 | D39: scene 35
C40: 36 | D40: scene 36
A41: ='Part-1-recap'!A17 -> 13 | B41: ='Part-1-recap'!C17 -> Middle sub-part 21 | C41: 37 | D41: scene 37
...

Sheet Scenes
B2: ="Title: " & novel_title -> Title: Enter Novel Title Here
A4: ID | B4: Name | C4: Ch | D4: POV | E4: Setting | F4: Characters | G4: M/m | H4: Purpose | I4: Type | J4: Actual Words | K4: Cumulative Actual Words | L4: Estimated Words | M4: Cumul. Expected Words | N4: Actual Intensity
A5: ='Part 2'!C5 -> 1 | B5: ='Part 2'!D5 -> scene 1 | J5: 0 | K5: =J5 -> 0 | L5: =estimated_wordcount/scene_count -> 1000 | M5: =L5 -> 1000 | N5: 0
A6: ='Part 2'!C6 -> 2 | B6: ='Part 2'!D6 -> scene 2 | J6: 0 | K6: =K5+J6 -> 0 | L6: =estimated_wordcount/scene_count -> 1000 | M6: =M5+L6 -> 2000 | N6: 8
A7: ='Part 2'!C7 -> 3 | B7: ='Part 2'!D7 -> scene 3 | J7: 0 | K7: =K6+J7 -> 0 | L7: =estimated_wordcount/scene_count -> 1000 | M7: =M6+L7 -> 3000 | N7: 11
A8: ='Part 2'!C8 -> 4 | B8: ='Part 2'!D8 -> scene 4 | J8: 0 | K8: =K7+J8 -> 0 | L8: =estimated_wordcount/scene_count -> 1000 | M8: =M7+L8 -> 4000 | N8: =N7+4 -> 15
A9: ='Part 2'!C9 -> 5 | B9: ='Part 2'!D9 -> scene 5 | J9: 0 | K9: =K8+J9 -> 0 | L9: =estimated_wordcount/scene_count -> 1000 | M9: =M8+L9 -> 5000 | N9: =N8+4 -> 19
A10: ='Part 2'!C10 -> 6 | B10: ='Part 2'!D10 -> scene 6 | J10: 0 | K10: =K9+J10 -> 0 | L10: =estimated_wordcount/scene_count -> 1000 | M10: =M9+L10 -> 6000 | N10: =N9+4 -> 23
A11: ='Part 2'!C11 -> 7 | B11: ='Part 2'!D11 -> scene 7 | J11: 0 | K11: =K10+J11 -> 0 | L11: =estimated_wordcount/scene_count -> 1000 | M11: =M10+L11 -> 7000 | N11: =N10+4 -> 27
A12: ='Part 2'!C12 -> 8 | B12: ='Part 2'!D12 -> scene 8 | J12: 0 | K12: =K11+J12 -> 0 | L12: =estimated_wordcount/scene_count -> 1000 | M12: =M11+L12 -> 8000 | N12: =N11+4 -> 31
A13: ='Part 2'!C13 -> 9 | B13: ='Part 2'!D13 -> scene 9 | J13: 0 | K13: =K12+J13 -> 0 | L13: =estimated_wordcount/scene_count -> 1000 | M13: =M12+L13 -> 9000 | N13: =N12+4 -> 35
A14: ='Part 2'!C14 -> 10 | B14: ='Part 2'!D14 -> scene 10 | J14: 0 | K14: =K13+J14 -> 0 | L14: =estimated_wordcount/scene_count -> 1000 | M14: =M13+L14 -> 10000 | N14: =N13+4 -> 39
A15: ='Part 2'!C15 -> 11 | B15: ='Part 2'!D15 -> scene 11 | J15: 0 | K15: =K14+J15 -> 0 | L15: =estimated_wordcount/scene_count -> 1000 | M15: =M14+L15 -> 11000 | N15: =N14+4 -> 43
A16: ='Part 2'!C16 -> 12 | B16: ='Part 2'!D16 -> scene 12 | J16: 0 | K16: =K15+J16 -> 0 | L16: =estimated_wordcount/scene_count -> 1000 | M16: =M15+L16 -> 12000 | N16: =N15+4 -> 47
A17: ='Part 2'!C17 -> 13 | B17: ='Part 2'!D17 -> scene 13 | J17: 0 | K17: =K16+J17 -> 0 | L17: =estimated_wordcount/scene_count -> 1000 | M17: =M16+L17 -> 13000 | N17: =N16+4 -> 51
A18: ='Part 2'!C18 -> 14 | B18: ='Part 2'!D18 -> scene 14 | J18: 0 | K18: =K17+J18 -> 0 | L18: =estimated_wordcount/scene_count -> 1000 | M18: =M17+L18 -> 14000 | N18: =N17+4 -> 55
A19: ='Part 2'!C19 -> 15 | B19: ='Part 2'!D19 -> scene 15 | J19: 0 | K19: =K18+J19 -> 0 | L19: =estimated_wordcount/scene_count -> 1000 | M19: =M18+L19 -> 15000 | N19: =N18+4 -> 59
... A23: ='Part 2'!C23 -> 19 | B23: ='Part 2'!D23 -> scene 19 | J23: 0 | K23: =K22+J23 -> 0 | L23: =estimated_wordcount/scene_count -> 1000 | M23: =M22+L23 -> 19000 | N23: =N22+4 -> 75
A24: ='Part 2'!C24 -> 20 | B24: ='Part 2'!D24 -> scene 20 | J24: 0 | K24: =K23+J24 -> 0 | L24: =estimated_wordcount/scene_count -> 1000 | M24: =M23+L24 -> 20000 | N24: 75
A25: ='Part 2'!C25 -> 21 | B25: ='Part 2'!D25 -> scene 21 | J25: 0 | K25: =K24+J25 -> 0 | L25: =estimated_wordcount/scene_count -> 1000 | M25: =M24+L25 -> 21000 | N25: 76
A26: ='Part 2'!C26 -> 22 | B26: ='Part 2'!D26 -> scene 22 | J26: 0 | K26: =K25+J26 -> 0 | L26: =estimated_wordcount/scene_count -> 1000 | M26: =M25+L26 -> 22000 | N26: 76
A27: ='Part 2'!C27 -> 23 | B27: ='Part 2'!D27 -> scene 23 | J27: 0 | K27: =K26+J27 -> 0 | L27: =estimated_wordcount/scene_count -> 1000 | M27: =M26+L27 -> 23000 | N27: 76
A28: ='Part 2'!C28 -> 24 | B28: ='Part 2'!D28 -> scene 24 | J28: 0 | K28: =K27+J28 -> 0 | L28: =estimated_wordcount/scene_count -> 1000 | M28: =M27+L28 -> 24000 | N28: 75
A29: ='Part 2'!C29 -> 25 | B29: ='Part 2'!D29 -> scene 25 | J29: 0 | K29: =K28+J29 -> 0 | L29: =estimated_wordcount/scene_count -> 1000 | M29: =M28+L29 -> 25000 | N29: 75
A30: ='Part 2'!C30 -> 26 | B30: ='Part 2'!D30 -> scene 26 | J30: 0 | K30: =K29+J30 -> 0 | L30: =estimated_wordcount/scene_count -> 1000 | M30: =M29+L30 -> 26000 | N30: 74
A31: ='Part 2'!C31 -> 27 | B31: ='Part 2'!D31 -> scene 27 | J31: 0 | K31: =K30+J31 -> 0 | L31: =estimated_wordcount/scene_count -> 1000 | M31: =M30+L31 -> 27000 | N31: 74
A32: ='Part 2'!C32 -> 28 | B32: ='Part 2'!D32 -> scene 28 | J32: 0 | K32: =K31+J32 -> 0 | L32: =estimated_wordcount/scene_count -> 1000 | M32: =M31+L32 -> 28000 | N32: 73
A33: ='Part 2'!C33 -> 29 | B33: ='Part 2'!D33 -> scene 29 | J33: 0 | K33: =K32+J33 -> 0 | L33: =estimated_wordcount/scene_count -> 1000 | M33: =M32+L33 -> 29000 | N33: 73
A34: ='Part 2'!C34 -> 30 | B34: ='Part 2'!D34 -> scene 30 | J34: 0 | K34: =K33+J34 -> 0 | L34: =estimated_wordcount/scene_count -> 1000 | M34: =M33+L34 -> 30000 | N34: 72
A35: ='Part 2'!C35 -> 31 | B35: ='Part 2'!D35 -> scene 31 | J35: 0 | K35: =K34+J35 -> 0 | L35: =estimated_wordcount/scene_count -> 1000 | M35: =M34+L35 -> 31000 | N35: 72
... A85: ='Part 2'!C85 -> 81 | B85: ='Part 2'!D85 -> scene 81 | J85: 0 | K85: =K84+J85 -> 0 | L85: =estimated_wordcount/scene_count -> 1000 | M85: =M84+L85 -> 81000 | N85: 0
C86: x | E86: x | F86: x | G86: x | H86: x | I86: x | J86: x | K86: x | L86: x | M86: x | N86: x

Sheet Character-List
A1: Salutation | B1: First Name (input) | C1: Last Name (input) | D1: Full Name (formula) | E1: Nickname | F1: Initials (formula) | G1: Role | H1: Relation | I1: Locations | J1: Notes | M1: How many first names begin with a letter?
A2: Mr. | B2: Main | C2: Character | D2: =B2 & " " & C2 -> Main Character | E2: Mainy | F2: =IF(LEN(B2)<1, "", LEFT(B2,1)) & IF(LEN(C2)<1, "", LEFT(C2,1)) -> MC | G2: Protagonist | M2: Letter | N2: Count
A3: Mr. | B3: Some | C3: Antagonist | D3: =B3 & " " & C3 -> Some Antagonist | E3: Anty | F3: =IF(LEN(B3)<1, "", LEFT(B3,1)) & IF(LEN(C3)<1, "", LEFT(C3,1)) -> SA | G3: Antagonist | M3: A | N3: =COUNTIFS(B:B,M3&"*",B:B,LOWER(M3)&"*") -> 0
A4: Ms. | B4: Sidekick | C4: One | D4: =B4 & " " & C4 -> Sidekick One | E4: Sidey1 | F4: =IF(LEN(B4)<1, "", LEFT(B4,1)) & IF(LEN(C4)<1, "", LEFT(C4,1)) -> SO | G4: Sidekick | M4: B | N4: =COUNTIFS(B:B,M4&"*",B:B,LOWER(M4)&"*") -> 0
A5: Mr. | B5: Sidekick | C5: Two | D5: =B5 & " " & C5 -> Sidekick Two | E5: Sidey2 | F5: =IF(LEN(B5)<1, "", LEFT(B5,1)) & IF(LEN(C5)<1, "", LEFT(C5,1)) -> ST | G5: Sidekick | M5: C | N5: =COUNTIFS(B:B,M5&"*",B:B,LOWER(M5)&"*") -> 0
D6: =B6 & " " & C6 | F6: =IF(LEN(B6)<1, "", LEFT(B6,1)) & IF(LEN(C6)<1, "", LEFT(C6,1)) | M6: D | N6: =COUNTIFS(B:B,M6&"*",B:B,LOWER(M6)&"*") -> 0
D7: =B7 & " " & C7 | F7: =IF(LEN(B7)<1, "", LEFT(B7,1)) & IF(LEN(C7)<1, "", LEFT(C7,1)) | M7: E | N7: =COUNTIFS(B:B,M7&"*",B:B,LOWER(M7)&"*") -> 0
D8: =B8 & " " & C8 | F8: =IF(LEN(B8)<1, "", LEFT(B8,1)) & IF(LEN(C8)<1, "", LEFT(C8,1)) | M8: F | N8: =COUNTIFS(B:B,M8&"*",B:B,LOWER(M8)&"*") -> 1
D9: =B9 & " " & C9 | F9: =IF(LEN(B9)<1, "", LEFT(B9,1)) & IF(LEN(C9)<1, "", LEFT(C9,1)) | M9: G | N9: =COUNTIFS(B:B,M9&"*",B:B,LOWER(M9)&"*") -> 0
D10: =B10 & " " & C10 | F10: =IF(LEN(B10)<1, "", LEFT(B10,1)) & IF(LEN(C10)<1, "", LEFT(C10,1)) | M10: H | N10: =COUNTIFS(B:B,M10&"*",B:B,LOWER(M10)&"*") -> 0
D11: =B11 & " " & C11 | F11: =IF(LEN(B11)<1, "", LEFT(B11,1)) & IF(LEN(C11)<1, "", LEFT(C11,1)) | M11: I | N11: =COUNTIFS(B:B,M11&"*",B:B,LOWER(M11)&"*") -> 0
D12: =B12 & " " & C12 | F12: =IF(LEN(B12)<1, "", LEFT(B12,1)) & IF(LEN(C12)<1, "", LEFT(C12,1)) | M12: J | N12: =COUNTIFS(B:B,M12&"*",B:B,LOWER(M12)&"*") -> 0
D13: =B13 & " " & C13 | F13: =IF(LEN(B13)<1, "", LEFT(B13,1)) & IF(LEN(C13)<1, "", LEFT(C13,1)) | M13: K | N13: =COUNTIFS(B:B,M13&"*",B:B,LOWER(M13)&"*") -> 0
D14: =B14 & " " & C14 | F14: =IF(LEN(B14)<1, "", LEFT(B14,1)) & IF(LEN(C14)<1, "", LEFT(C14,1)) | M14: L | N14: =COUNTIFS(B:B,M14&"*",B:B,LOWER(M14)&"*") -> 0
D15: =B15 & " " & C15 | F15: =IF(LEN(B15)<1, "", LEFT(B15,1)) & IF(LEN(C15)<1, "", LEFT(C15,1)) | M15: M | N15: =COUNTIFS(B:B,M15&"*",B:B,LOWER(M15)&"*") -> 1
D16: =B16 & " " & C16 | F16: =IF(LEN(B16)<1, "", LEFT(B16,1)) & IF(LEN(C16)<1, "", LEFT(C16,1)) | M16: N | N16: =COUNTIFS(B:B,M16&"*",B:B,LOWER(M16)&"*") -> 0
D17: =B17 & " " & C17 | F17: =IF(LEN(B17)<1, "", LEFT(B17,1)) & IF(LEN(C17)<1, "", LEFT(C17,1)) | M17: O | N17: =COUNTIFS(B:B,M17&"*",B:B,LOWER(M17)&"*") -> 0
... D28: =B28 & " " & C28 | F28: =IF(LEN(B28)<1, "", LEFT(B28,1)) & IF(LEN(C28)<1, "", LEFT(C28,1)) | M28: Z | N28: =COUNTIFS(B:B,M28&"*",B:B,LOWER(M28)&"*") -> 0
D29: =B29 & " " & C29 | F29: =IF(LEN(B29)<1, "", LEFT(B29,1)) & IF(LEN(C29)<1, "", LEFT(C29,1))
D30: =B30 & " " & C30 | F30: =IF(LEN(B30)<1, "", LEFT(B30,1)) & IF(LEN(C30)<1, "", LEFT(C30,1))
D31: =B31 & " " & C31 | F31: =IF(LEN(B31)<1, "", LEFT(B31,1)) & IF(LEN(C31)<1, "", LEFT(C31,1))
D32: =B32 & " " & C32 | F32: =IF(LEN(B32)<1, "", LEFT(B32,1)) & IF(LEN(C32)<1, "", LEFT(C32,1))

Sheet Major-Char
A1: Character Detail
A2: Name | B2: Main Character
A3: Nickname | B3: Mainy
A4: Gender | B4: Male
A5: Date of Birth | B5: 37084
A6: Place of Birth | B6: Somewhere, USA
A7: Father's Name | B7: ?
A8: Mother's Name | B8: ?
A9: Ethnic Background / Race | B9: ?
A10: Religion | B10: ?
A11: Sexual Orientation | B11: ?
A12: Languages Spoken | B12: ?
A13: Age | B13: =IFERROR((present_date-B5)/365, "Cannot calculate") -> 14.482192
A14: Height | B14: 65 in (5'5")
A15: Weight | B15: 98 lb
A16: Body Type | B16: Slender
A17: Eye Color | B17: Brown
A18: Hair Color | B18: Chestnut
A19: Hair Style | B19: Long, curly
A20: Facial Hair | B20: Moustache
A21: Glasses / Contacts | B21: No
A22: Facial Piercings | B22: Earrings
A23: Skin Color | B23: Olive
A25: Jung / Briggs Myers Typology | B25: INFJ
A26: (go to the Personality page and follow the link to the test) | B26: =IF(ISBLANK(B25), "", IFERROR(HLOOKUP(B25,Personality!A5:D6,2,FALSE), IFERROR(HLOOKUP(B25,Personality!A7:D8,2,FALSE), IFERROR(HLOOKUP(B25,Personality!A9:D10,2,FALSE), IFERROR(HLOOKUP(B25,Personality!A11:D12,2,FALSE),""))))) -> Seek meaning and connection in ideas, relationships, and material possessions. Want to understand what motivates people and are insightful about others. Conscientious and committed to their firm values. Develop a clear vision about how best to serve the common good. Organized and decisive in implementing their vision.
B27: =IFERROR(VLOOKUP(B25,Settings!H3:I18, 2, FALSE),"") -> Introveted Intuitive Feeling Judging
A28: read more: | B28: =IF(ISBLANK(B25),"",HYPERLINK("http://www.humanmetrics.com/personality/" & LOWER(B25), "http://www.humanmetrics.com/personality/" & LOWER(B25))) -> http://www.humanmetrics.com/personality/infj
A30: Question | B30: Answer
A31: Are there any distinguishing facial features?
A32: Any birthmarks or scars?
A33: ="Who are " & B2 & "'s friends?" -> Who are Main Character's friends?
A34: ="Who is "&B2&" closest to?" -> Who is Main Character closest to?
A35: What happens when Daniel is angry?
A36: ="What is " & B2 & "'s biggest fear? Who has he told this to? Who he would never tell this to?" -> What is Main Character's biggest fear? Who has he told this to? Who he would never tell this to?
A37: ="Does "&IF(B4="Male","he",IF(B4="Female","she","he/she")) &" have a secret?" -> Does he have a secret?
A38: ="What makes " & B2 & " laugh out loud?" -> What makes Main Character laugh out loud?
A39: ="Has "&IF(B4="Male","he",IF(B4="Female","she","he/she")) &" been in love? Had a broken heart?" -> Has he been in love? Had a broken heart?
A40: ="What does " & B2 & " likes to eat?" -> What does Main Character likes to eat?
A41: ="What does "&IF(B4="Male","he",IF(B4="Female","she","he/she")) &" like to read?" -> What does he like to read?
A42: What about sports?
...

Sheet Minor-Char
A1: Character Detail
A2: Name | B2: Minor Character
A3: Nickname | B3: Minny
A4: Gender | B4: Male
A5: Date of Birth | B5: 37084
A6: Place of Birth | B6: Somewhere, USA
A7: Father's Name | B7: ?
A8: Mother's Name | B8: ?
A9: Ethnic Background / Race | B9: ?
A10: Religion | B10: ?
A11: Sexual Orientation | B11: ?
A12: Languages Spoken | B12: ?
A13: Age | B13: =IFERROR((present_date-B5)/365, "Cannot calculate") -> 14.482192
A14: Height | B14: 65 in (5'5")
A15: Weight | B15: 98 lb
A16: Body Type | B16: Slender
A17: Eye Color | B17: Brown
A18: Hair Color | B18: Chestnut
A19: Hair Style | B19: Long, curly
A20: Facial Hair | B20: Moustache
A21: Glasses / Contacts | B21: No
A22: Facial Piercings | B22: Earrings
A23: Skin Color | B23: Olive
A25: Question | B25: Answer
A26: Are there any distinguishing facial features?
A27: Any birthmarks or scars?
A28: ="Who are " & B2 & "'s friends?" -> Who are Minor Character's friends?
A29: ="Who is "&B2&" closest to?" -> Who is Minor Character closest to?
A30: ="What happens when " & B2 & " is angry?" -> What happens when Minor Character is angry?
A31: Verbal Idiosyncrasies
A32: Physical Idiosyncrasies
A33: ="How does " & B2 & " know the main character?" -> How does Minor Character know the main character?
A34: Any other significant connections?
A35: What do others think of this character?
A36: Any special or relevant skills?
A37: Major flaws
A39: Attributes | B39: Answer 1 - 10
A40: Intelligence | B40: 1
A41: Physical Strength | B41: 1
A42: Charisma | B42: 1
...

Sheet Personality
A1: Favorite World: Do you prefer to focus on the outer world or on your own inner world? Introversion (I) / Extraversion (E)
A2: Information: Do you prefer to focus on the basic information you take in or do you prefer to interpret and add meaning? Sensing (S) / Intuition (N).
A3: Decisions: When making decisions, do you prefer to first look at logic and consistency or first look at the people and special circ.? Thinking (T) / Feeling (F).
A4: Structure: In dealing with the outside world, do you prefer to get things decided or do you prefer to stay open to new info and options? Judging (J) / Perceiving (P).
A5: ISTJ | B5: ISFJ | C5: INFJ | D5: INTJ
A6: Quiet, serious, earn success by thoroughness and dependability. Practical, matter-of-fact, realistic, and responsible. Decide logically what should be done and work toward it steadily, regardless of distractions. Take pleasure in making everything orderly and organized – their work, their home, their life. Value traditions and loyalty. | B6: Quiet, friendly, responsible, and conscientious. Committed and steady in meeting their obligations. Thorough, painstaking, and accurate. Loyal, considerate, notice and remember specifics about people who are important to them, concerned with how others feel. Strive to create an orderly and harmonious environment at work and at home. | C6: Seek meaning and connection in ideas, relationships, and material possessions. Want to understand what motivates people and are insightful about others. Conscientious and committed to their firm values. Develop a clear vision about how best to serve the common good. Organized and decisive in implementing their vision. | D6: Have original minds and great drive for implementing their ideas and achieving their goals. Quickly see patterns in external events and develop long-range explanatory perspectives. When committed, organize a job and carry it through. Skeptical and independent, have high standards of competence and performance – for themselves and others.
A7: ISTP | B7: ISFP | C7: INFP | D7: INTP
A8: Tolerant and flexible, quiet observers until a problem appears, then act quickly to find workable solutions. Analyze what makes things work and readily get through large amounts of data to isolate the core of practical problems. Interested in cause and effect, organize facts using logical principles, value efficiency. | B8: Quiet, friendly, sensitive, and kind. Enjoy the present moment, what’s going on around them. Like to have their own space and to work within their own time frame. Loyal and committed to their values and to people who are important to them. Dislike disagreements and conflicts, do not force their opinions or values on others. | C8: Idealistic, loyal to their values and to people who are important to them. Want an external life that is congruent with their values. Curious, quick to see possibilities, can be catalysts for implementing ideas. Seek to understand people and to help them fulfill their potential. Adaptable, flexible, and accepting unless a value is threatened. | D8: Seek to develop logical explanations for everything that interests them. Theoretical and abstract, interested more in ideas than in social interaction. Quiet, contained, flexible, and adaptable. Have unusual ability to focus in depth to solve problems in their area of interest. Skeptical, sometimes critical, always analytical.
A9: ESTP | B9: ESFP | C9: ENFP | D9: ENTP
A10: Flexible and tolerant, they take a pragmatic approach focused on immediate results. Theories and conceptual explanations bore them – they want to act energetically to solve the problem. Focus on the here-and-now, spontaneous, enjoy each moment that they can be active with others. Enjoy material comforts and style. Learn best through doing. | B10: Outgoing, friendly, and accepting. Exuberant lovers of life, people, and material comforts. Enjoy working with others to make things happen. Bring common sense and a realistic approach to their work, and make work fun. Flexible and spontaneous, adapt readily to new people and environments. Learn best by trying a new skill with other people. | C10: Warmly enthusiastic and imaginative. See life as full of possibilities. Make connections between events and information very quickly, and confidently proceed based on the patterns they see. Want a lot of affirmation from others, and readily give appreciation and support. Spontaneous and flexible, often rely on their ability to improvise and their verbal fluency. | D10: Quick, ingenious, stimulating, alert, and outspoken. Resourceful in solving new and challenging problems. Adept at generating conceptual possibilities and then analyzing them strategically. Good at reading other people. Bored by routine, will seldom do the same thing the same way, apt to turn to one new interest after another.
A11: ESTJ | B11: ESFJ | C11: ENFJ | D11: ENTJ
A12: Practical, realistic, matter-of-fact. Decisive, quickly move to implement decisions. Organize projects and people to get things done, focus on getting results in the most efficient way possible. Take care of routine details. Have a clear set of logical standards, systematically follow them and want others to also. Forceful in implementing their plans. | B12: Warmhearted, conscientious, and cooperative. Want harmony in their environment, work with determination to establish it. Like to work with others to complete tasks accurately and on time. Loyal, follow through even in small matters. Notice what others need in their day-by-day lives and try to provide it. Want to be appreciated for who they are and for what they contribute. | C12: Warm, empathetic, responsive, and responsible. Highly attuned to the emotions, needs, and motivations of others. Find potential in everyone, want to help others fulfill their potential. May act as catalysts for individual and group growth. Loyal, responsive to praise and criticism. Sociable, facilitate others in a group, and provide inspiring leadership. | D12: Frank, decisive, assume leadership readily. Quickly see illogical and inefficient procedures and policies, develop and implement comprehensive systems to solve organizational problems. Enjoy long-term planning and goal setting. Usually well informed, well read, enjoy expanding their knowledge and passing it on to others. Forceful in presenting their ideas.
A14: http://www.humanmetrics.com/cgi-win/jtypes2.asp | C14: <= Take the test as your character

Sheet Genealogy
D1: Note: The age calculation will not work if you use dates prior to Jan 1, 1900
G2: Chart no. | M2: ="Age as of " & TEXT(crtdate,"mm/dd/yyyy") -> Age as of 01/01/2016 | N2: Age at death | O2: Name
A3: Novel's Present Day:
B4: =present_date -> 42370 | H4: 8 | I4: MC's Great Grandfather 1 | M4: =IFERROR(ROUND((crtdate-J5)/365,0),"N/A") -> N/A | N4: =IFERROR(ROUND((J9-J5)/365,0),"N/A") -> N/A | O4: =I4 -> MC's Great Grandfather 1
I5: B: | J5: [Date] | K5: Cont. on
J6: [Place] | K6: chart no.
I7: M: | J7: [Date]
A8: No 1 is the same as | E8: 4 | F8: MC's Grandfather 1 | J8: [Place] | M8: =IFERROR(ROUND((crtdate-G9)/365,0),"N/A") -> N/A | N8: =IFERROR(ROUND((G15-G9)/365,0),"N/A") -> N/A | O8: =F8 -> MC's Grandfather 1
A9: no. | F9: B: | G9: [Date] | I9: D: | J9: [Date]
A10: on chart | G10: [Place] | J10: [Place]
I11: S: | J11: [siblings]
F12: M: | G12: [Date] | H12: 9 | I12: MC's Great Grandmother 1 | M12: =IFERROR(ROUND((crtdate-J13)/365,0),"N/A") -> N/A | N12: =IFERROR(ROUND((J15-J13)/365,0),"N/A") -> N/A | O12: =I12 -> MC's Great Grandmother 1
G13: [Place] | I13: B: | J13: [Date] | K13: Cont. on
J14: [Place] | K14: chart no.
B15: 2 | C15: MC's Father | F15: D: | G15: [Date] | I15: D: | J15: [Date] | M15: =IFERROR(ROUND((crtdate-D16)/365,0),"N/A") -> N/A | N15: =IFERROR(ROUND((D22-D16)/365,0),"N/A") -> N/A | O15: =C15 -> MC's Father
C16: B: | D16: [Date] | G16: [Place] | J16: [Place]
D17: [Place] | I17: S: | J17: [siblings]
F18: S: | G18: [siblings] | H18: 10 | I18: MC's Great Grandfather 2 | M18: =IFERROR(ROUND((crtdate-J19)/365,0),"N/A") -> N/A | N18: =IFERROR(ROUND((J23-J19)/365,0), "N/A") -> N/A | O18: =I18 -> MC's Great Grandfather 2
C19: M: | D19: [Date] | I19: B: | J19: [Date] | K19: Cont. on
D20: [Place] | J20: [Place] | K20: chart no.
I21: M: | J21: [Date]
C22: D: | D22: [Date] | E22: 5 | F22: MC's Grandmother 1 | J22: [Place] | M22: =IFERROR(ROUND((crtdate-G23)/365,0), "N/A") -> N/A | N22: =IFERROR(ROUND((G26-G23)/365,0), "N/A") -> N/A | O22: =F22 -> MC's Grandmother 1
D23: [Place] | F23: B: | G23: [Date] | I23: D: | J23: [Date]
G24: [Place] | J24: [Place]
C25: S: | D25: [siblings] | I25: S: | J25: [siblings]
F26: D: | G26: [Date] | H26: 11 | I26: MC's Great Grandmother 2 | M26: =IFERROR(ROUND((crtdate-J27)/365,0),"N/A") -> N/A | N26: =IFERROR(ROUND((J29-J27)/365,0),"N/A") -> N/A | O26: =I26 -> MC's Great Grandmother 2
A27: 1 | B27: Main Character | G27: [Place] | I27: B: | J27: [Date] | K27: Cont. on | M27: =IFERROR(ROUND((crtdate-D28)/365,0),"N/A") -> N/A | N27: =IFERROR(ROUND((D34-D28)/365,0),"N/A") -> N/A | O27: =B27 -> Main Character
C28: B: | D28: [Date] | J28: [Place] | K28: chart no.
D29: [Place] | F29: S: | G29: [siblings] | I29: D: | J29: [Date]
J30: [Place]
C31: M: | D31: [Date] | I31: S: | J31: [siblings]
D32: [Place] | H32: 12 | I32: MC's Great Grandfather 3 | M32: =IFERROR(ROUND((crtdate-J33)/365,0),"N/A") -> N/A | N32: =IFERROR(ROUND((J37-J33)/365,0),"N/A") -> N/A | O32: =I32 -> MC's Great Grandfather 3
I33: B: | J33: [Date] | K33: Cont. on
C34: D: | D34: [Date] | J34: [Place] | K34: chart no.
D35: [Place] | I35: M: | J35: [Date]
E36: 6 | F36: MC's Grandfather 2 | J36: [Place] | M36: =IFERROR(ROUND((crtdate-G37)/365,0),"N/A") -> N/A | N36: =IFERROR(ROUND((G43-G37)/365,0),"N/A") -> N/A | O36: =F36 -> MC's Grandfather 2
C37: [Name] | F37: B: | G37: [Date] | I37: D: | J37: [Date]
C38: (Spouse) | G38: [Place] | J38: [Place]
I39: S: | J39: [siblings]
B40: {42} | F40: M: | G40: [Date] | H40: 13 | I40: MC's Great Grandmother 3 | M40: =IFERROR(ROUND((crtdate-J41)/365,0), "N/A") -> N/A | N40: =IFERROR(ROUND((J43-J41)/365,0), "N/A") -> N/A | O40: =I40 -> MC's Great Grandmother 3
...

Sheet Word-Tracker
A1: Title | C1: =novel_title -> Enter Novel Title Here
A2: Date Started | C2: =Dashboard!D21 -> 42005
A3: Estimated Completion | C3: =Dashboard!D22 -> 42065
A4: Target Word Count | C4: =estimated_wordcount -> 81000
A5: Number of writing sessions | C5: =COUNTA(A11:A205) -> 9
A6: Estimated Words per Day | C6: =IFERROR(C4/(C3-C2), NA()) -> 1350
A7: Actual Average Words per Day | C7: =IF(session_count=0,0,total_wc/session_count) -> 666.66667 | D7: =IF(C7>C6, "(ahead)", "(behind)") -> (behind)
A8: Completion | C8: =MIN(100%,MAX(D11:D205)) -> 0.074074074
A10: Date | B10: Total Word Count | C10: Session Word Count | D10: % Completed
A11: 42005 | B11: 1000 | C11: =B11 -> 1000 | D11: =IF(estimated_wordcount=0,0,B11/estimated_wordcount) -> 0.012345679
A12: 42006 | B12: 1200 | C12: =IF(B12=0,0,B12-B11) -> 200 | D12: =IF(estimated_wordcount=0,0,B12/estimated_wordcount) -> 0.014814815
A13: 42007 | B13: 2150 | C13: =IF(B13=0,0,B13-B12) -> 950 | D13: =IF(estimated_wordcount=0,0,B13/estimated_wordcount) -> 0.02654321
A14: 42008 | B14: 3000 | C14: =IF(B14=0,0,B14-B13) -> 850 | D14: =IF(estimated_wordcount=0,0,B14/estimated_wordcount) -> 0.037037037
A15: =A14+1 -> 42009 | B15: 3300 | C15: =IF(B15=0,0,B15-B14) -> 300 | D15: =IF(estimated_wordcount=0,0,B15/estimated_wordcount) -> 0.040740741
A16: =A15+1 -> 42010 | B16: 3500 | C16: =IF(B16=0,0,B16-B15) -> 200 | D16: =IF(estimated_wordcount=0,0,B16/estimated_wordcount) -> 0.043209877
A17: =A16+1 -> 42011 | B17: 4000 | C17: =IF(B17=0,0,B17-B16) -> 500 | D17: =IF(estimated_wordcount=0,0,B17/estimated_wordcount) -> 0.049382716
A18: =A17+1 -> 42012 | B18: 5200 | C18: =IF(B18=0,0,B18-B17) -> 1200 | D18: =IF(estimated_wordcount=0,0,B18/estimated_wordcount) -> 0.064197531
A19: =A18+1 -> 42013 | B19: 6000 | C19: =IF(B19=0,0,B19-B18) -> 800 | D19: =IF(estimated_wordcount=0,0,B19/estimated_wordcount) -> 0.074074074
B20: 0 | C20: =IF(B20=0,0,B20-B19) -> 0 | D20: =IF(estimated_wordcount=0,0,B20/estimated_wordcount) -> 0
B21: 0 | C21: =IF(B21=0,0,B21-B20) -> 0 | D21: =IF(estimated_wordcount=0,0,B21/estimated_wordcount) -> 0
B22: 0 | C22: =IF(B22=0,0,B22-B21) -> 0 | D22: =IF(estimated_wordcount=0,0,B22/estimated_wordcount) -> 0
B23: 0 | C23: =IF(B23=0,0,B23-B22) -> 0 | D23: =IF(estimated_wordcount=0,0,B23/estimated_wordcount) -> 0
B24: 0 | C24: =IF(B24=0,0,B24-B23) -> 0 | D24: =IF(estimated_wordcount=0,0,B24/estimated_wordcount) -> 0
B25: 0 | C25: =IF(B25=0,0,B25-B24) -> 0 | D25: =IF(estimated_wordcount=0,0,B25/estimated_wordcount) -> 0
B26: 0 | C26: =IF(B26=0,0,B26-B25) -> 0 | D26: =IF(estimated_wordcount=0,0,B26/estimated_wordcount) -> 0
B27: 0 | C27: =IF(B27=0,0,B27-B26) -> 0 | D27: =IF(estimated_wordcount=0,0,B27/estimated_wordcount) -> 0
B28: 0 | C28: =IF(B28=0,0,B28-B27) -> 0 | D28: =IF(estimated_wordcount=0,0,B28/estimated_wordcount) -> 0
B29: 0 | C29: =IF(B29=0,0,B29-B28) -> 0 | D29: =IF(estimated_wordcount=0,0,B29/estimated_wordcount) -> 0
B30: 0 | C30: =IF(B30=0,0,B30-B29) -> 0 | D30: =IF(estimated_wordcount=0,0,B30/estimated_wordcount) -> 0
B31: 0 | C31: =IF(B31=0,0,B31-B30) -> 0 | D31: =IF(estimated_wordcount=0,0,B31/estimated_wordcount) -> 0
... B205: 0 | C205: =IF(B205=0,0,B205-B204) -> 0 | D205: =IF(estimated_wordcount=0,0,B205/estimated_wordcount) -> 0
A207: Total WC | B207: =MAX(B11:B205) -> 6000 | C207: =SUM(C11:C205) -> 6000

Sheet Charts

Sheet Settings
A1: Purpose | B1: Type | C1: Chapters | D1: M | E1: Please do not modify or delete this worksheet. | J1: Default Intensity
A2: Move Plot | B2: Active | C2: 1 | D2: m | J2: 0 | L2: Male
A3: Grow Character | B3: Reactive | C3: 2 | H3: ENFJ | I3: =SUBSTITUTE(SUBSTITUTE(SUBSTITUTE(SUBSTITUTE(SUBSTITUTE(SUBSTITUTE(SUBSTITUTE(SUBSTITUTE(H3,"E","Extraverted "),"S","Sensing "),"T","Thinking "),"J","Judging "),"I","Introveted "),"F","Feeling "),"P","Perceiving"),"N","Intuitive ") -> Extraverted Intuitive Feeling Judging | J3: 8 | L3: Female
A4: Setup | C4: 3 | H4: ENFP | I4: =SUBSTITUTE(SUBSTITUTE(SUBSTITUTE(SUBSTITUTE(SUBSTITUTE(SUBSTITUTE(SUBSTITUTE(SUBSTITUTE(H4,"E","Extraverted "),"S","Sensing "),"T","Thinking "),"J","Judging "),"I","Introveted "),"F","Feeling "),"P","Perceiving"),"N","Intuitive ") -> Extraverted Intuitive Feeling Perceiving | J4: 11 | L4: Unknown
C5: 4 | H5: ENTJ | I5: =SUBSTITUTE(SUBSTITUTE(SUBSTITUTE(SUBSTITUTE(SUBSTITUTE(SUBSTITUTE(SUBSTITUTE(SUBSTITUTE(H5,"E","Extraverted "),"S","Sensing "),"T","Thinking "),"J","Judging "),"I","Introveted "),"F","Feeling "),"P","Perceiving"),"N","Intuitive ") -> Extraverted Intuitive Thinking Judging | J5: 15
C6: 5 | H6: ENTP | I6: =SUBSTITUTE(SUBSTITUTE(SUBSTITUTE(SUBSTITUTE(SUBSTITUTE(SUBSTITUTE(SUBSTITUTE(SUBSTITUTE(H6,"E","Extraverted "),"S","Sensing "),"T","Thinking "),"J","Judging "),"I","Introveted "),"F","Feeling "),"P","Perceiving"),"N","Intuitive ") -> Extraverted Intuitive Thinking Perceiving | J6: 19
C7: 6 | H7: ESFJ | I7: =SUBSTITUTE(SUBSTITUTE(SUBSTITUTE(SUBSTITUTE(SUBSTITUTE(SUBSTITUTE(SUBSTITUTE(SUBSTITUTE(H7,"E","Extraverted "),"S","Sensing "),"T","Thinking "),"J","Judging "),"I","Introveted "),"F","Feeling "),"P","Perceiving"),"N","Intuitive ") -> Extraverted Sensing Feeling Judging | J7: 23
C8: 7 | H8: ESFP | I8: =SUBSTITUTE(SUBSTITUTE(SUBSTITUTE(SUBSTITUTE(SUBSTITUTE(SUBSTITUTE(SUBSTITUTE(SUBSTITUTE(H8,"E","Extraverted "),"S","Sensing "),"T","Thinking "),"J","Judging "),"I","Introveted "),"F","Feeling "),"P","Perceiving"),"N","Intuitive ") -> Extraverted Sensing Feeling Perceiving | J8: 27
C9: 8 | H9: ESTJ | I9: =SUBSTITUTE(SUBSTITUTE(SUBSTITUTE(SUBSTITUTE(SUBSTITUTE(SUBSTITUTE(SUBSTITUTE(SUBSTITUTE(H9,"E","Extraverted "),"S","Sensing "),"T","Thinking "),"J","Judging "),"I","Introveted "),"F","Feeling "),"P","Perceiving"),"N","Intuitive ") -> Extraverted Sensing Thinking Judging | J9: 31
C10: 9 | H10: ESTP | I10: =SUBSTITUTE(SUBSTITUTE(SUBSTITUTE(SUBSTITUTE(SUBSTITUTE(SUBSTITUTE(SUBSTITUTE(SUBSTITUTE(H10,"E","Extraverted "),"S","Sensing "),"T","Thinking "),"J","Judging "),"I","Introveted "),"F","Feeling "),"P","Perceiving"),"N","Intuitive ") -> Extraverted Sensing Thinking Perceiving | J10: 35
C11: 10 | H11: INFJ | I11: =SUBSTITUTE(SUBSTITUTE(SUBSTITUTE(SUBSTITUTE(SUBSTITUTE(SUBSTITUTE(SUBSTITUTE(SUBSTITUTE(H11,"E","Extraverted "),"S","Sensing "),"T","Thinking "),"J","Judging "),"I","Introveted "),"F","Feeling "),"P","Perceiving"),"N","Intuitive ") -> Introveted Intuitive Feeling Judging | J11: 39
C12: 11 | H12: INFP | I12: =SUBSTITUTE(SUBSTITUTE(SUBSTITUTE(SUBSTITUTE(SUBSTITUTE(SUBSTITUTE(SUBSTITUTE(SUBSTITUTE(H12,"E","Extraverted "),"S","Sensing "),"T","Thinking "),"J","Judging "),"I","Introveted "),"F","Feeling "),"P","Perceiving"),"N","Intuitive ") -> Introveted Intuitive Feeling Perceiving | J12: 43
C13: 12 | H13: INTJ | I13: =SUBSTITUTE(SUBSTITUTE(SUBSTITUTE(SUBSTITUTE(SUBSTITUTE(SUBSTITUTE(SUBSTITUTE(SUBSTITUTE(H13,"E","Extraverted "),"S","Sensing "),"T","Thinking "),"J","Judging "),"I","Introveted "),"F","Feeling "),"P","Perceiving"),"N","Intuitive ") -> Introveted Intuitive Thinking Judging | J13: 47
C14: 13 | H14: INTP | I14: =SUBSTITUTE(SUBSTITUTE(SUBSTITUTE(SUBSTITUTE(SUBSTITUTE(SUBSTITUTE(SUBSTITUTE(SUBSTITUTE(H14,"E","Extraverted "),"S","Sensing "),"T","Thinking "),"J","Judging "),"I","Introveted "),"F","Feeling "),"P","Perceiving"),"N","Intuitive ") -> Introveted Intuitive Thinking Perceiving | J14: 51
C15: 14 | H15: ISFJ | I15: =SUBSTITUTE(SUBSTITUTE(SUBSTITUTE(SUBSTITUTE(SUBSTITUTE(SUBSTITUTE(SUBSTITUTE(SUBSTITUTE(H15,"E","Extraverted "),"S","Sensing "),"T","Thinking "),"J","Judging "),"I","Introveted "),"F","Feeling "),"P","Perceiving"),"N","Intuitive ") -> Introveted Sensing Feeling Judging | J15: 55
C16: 15 | H16: ISFP | I16: =SUBSTITUTE(SUBSTITUTE(SUBSTITUTE(SUBSTITUTE(SUBSTITUTE(SUBSTITUTE(SUBSTITUTE(SUBSTITUTE(H16,"E","Extraverted "),"S","Sensing "),"T","Thinking "),"J","Judging "),"I","Introveted "),"F","Feeling "),"P","Perceiving"),"N","Intuitive ") -> Introveted Sensing Feeling Perceiving | J16: 59
... C18: 17 | H18: ISTP | I18: =SUBSTITUTE(SUBSTITUTE(SUBSTITUTE(SUBSTITUTE(SUBSTITUTE(SUBSTITUTE(SUBSTITUTE(SUBSTITUTE(H18,"E","Extraverted "),"S","Sensing "),"T","Thinking "),"J","Judging "),"I","Introveted "),"F","Feeling "),"P","Perceiving"),"N","Intuitive ") -> Introveted Sensing Thinking Perceiving | J18: 67
C19: 18 | J19: 71
C20: 19 | J20: 75
C21: 20 | J21: 75
C22: 21 | J22: 76
C23: 22 | J23: 76
C24: 23 | J24: 76
C25: 24 | J25: 75
C26: 25 | J26: 75
C27: 26 | J27: 74
C28: 27 | J28: 74
C29: 28 | J29: 73
C30: 29 | J30: 73
... C82: 81 | J82: 0
C83: 82
C84: 83
C85: 84
C86: 85
C87: 86
C88: 87
C89: 88
C90: 89
C91: 90
C92: 91
...
