Workbook
Name chapter_count: Data!$C$4
Name novel_title: Setup!$C$4
Name scenes_count: Data!$C$3
Name series_name: Setup!$C$6
Name session_count: 'Word-Tracker'!$C$6
Name start_date: Setup!$C$12
Name total_wc: 'Word-Tracker'!$B$208
Name word_count: Setup!$C$8

Sheet Info
D4: Quick Novel Outline Template
D7: Version | E7: 1.0
D8: Updated | E8: Oct 2020
D10: Copyright © 2020 Self-Growth Journey LLC. All Rights Reserved.
D12: Author | E12: Iulian Ionescu
D14: Website | E14: https://iulianionescu.com
D16: Web Instructions | E16: https://iulianionescu.com/blog/novel-outline-free-template/
D18: Contact | E18: https://iulianionescu.com/contact/
D20: The QuickNovel Outline Template is a tool designed to help you create a quick outline for your story or essay. It's simple and flexible, and provides a quick process to go from one central idea to a full outline and synopsis.
L31: selfgrowthjourney.net

Sheet Instructions
D4: Quick Novel Outline Template
D7: Instructions
D9: Setup
D11: ● Enter your story or essay's working title and the name of the series, if any.
D12: ● Enter the date in which you plan to start writing.
D13: ● Next, decide and enter the approximate word count your novel will have. Research online for the standard length for your story genre.
D14: ● Calculate the target date of your novel completion using the tool below:
E16: Total Words | F16: 80000 | G16: (enter)
E17: # of Pages | F17: =F16/250 -> 320
E18: Pages per day | F18: 5 | G18: (estimate how many pages you will write per day)
E19: Total Days | F19: =F17/F18 -> 64
E20: Start Date | F20: 43831 | G20: (the date when you will start writing)
E21: End Date | F21: =F20+F19 -> 43895
D24: Step 1
D26: ● Write once sentence that represents your story's elevator pitch. If you only had 10 seconds to describe it, what would it be?
D27: ● Describe the beginning of the story in one sentence first, focusing on:
E28: ● What does the world look like?
E29: ● What is the predicament of the main characters?
E30: ● What are some of the existing issues that need to be solved, if any?
D31: ● Next, describe the ending of the story in one sentence first, focusing on:
E32: ● What does the world look like now? How has it changed?
E33: ● What changes occurred in your main characters? What did they become?
E34: ● Is it a happy ending or not?
D35: ● Last, describe the middle of the story in one sentence first, focusing on:
E36: ● How does your character solve the conflict?
E37: ● What are some of the main plot points and action?
D40: Step 2
D42: ● Expand each section by adding 2 - 3 sub-descriptions.
D43: ● Use the Title column to give each a concise and clear title
D44: ● Use the Description column to define each section in one or more sentences.
D45: ● For the beginning, focus on: | K45: Suggested Intensity Progression
E46: ● Intro - how are we introduced to the story, characters, and the world?
E47: ● Inciting Event - what happens that drives the characters into the plot?
E48: ● Major Problem - what is the first issue that the characters encounter?
D49: ● For the middle, focus on:
E50: ● Choice - Raise the stakes and action; main character makes a choice
E51: ● Midpoint Reversal - something unexpected turns the story upside down
E52: ● Disaster - something terrible is happening; more hurdles for your character
D53: ● For the ending, focus on:
E54: ● Plan - characters are getting ready to face the resolution of the story
...

Sheet Setup
B2: Setup
B4: Title | C4: Novel Title
B6: Series Name | C6: Series
B8: Word Count | C8: 80000
B10: Author | C10: Iulian Ionescu
B12: Date Started | C12: 43831
B14: Target Completion Date | C14: 43921

Sheet Step 1
B2: ="Step 1 - " & novel_title & IF(series_name<>"", " (" & series_name & ")", "") -> Step 1 - Novel Title (Series)
B4: Story one-liner | C4: Describe the story in one line
B6: Beginning | C6: Describe the beginning of the story (do this first) | D6: Setup
B8: Middle | C8: Describe the middle of the story (do this last) | D8: Confrontation
B10: Ending | C10: Describe the ending of the story (do this second) | D10: Resolution

Sheet Step 2
B2: ="Step 2 - " & novel_title & IF(series_name="", "", " (" & series_name & ")") -> Step 2 - Novel Title (Series)
B4: Beginning | C4: Title | D4: ='Step 1'!C6 -> Describe the beginning of the story (do this first)
C5: =$B$4 & " Part 1" -> Beginning Part 1 | D5: beginning of the beginning | E5: Intro
C6: =$B$4 & " Part 2" -> Beginning Part 2 | D6: early middle of the beginning | E6: Inciting Event
C7: =$B$4 & " Part 3" -> Beginning Part 3 | D7: late middle of the beginning | E7: Inciting Event
C8: =$B$4 & " Part 4" -> Beginning Part 4 | D8: ending of the beginning | E8: Major Problem
B10: Middle | C10: Title | D10: ='Step 1'!C8 -> Describe the middle of the story (do this last)
C11: =$B$10 & " Part 1" -> Middle Part 1 | D11: beginning of the middle | E11: Choice
C12: =$B$10 & " Part 2" -> Middle Part 2 | D12: early middle of the middle | E12: Midpoint reversal
C13: =$B$10 & " Part 3" -> Middle Part 3 | D13: late middle of the middle | E13: Midpoint reversal
C14: =$B$10 & " Part 4" -> Middle Part 4 | D14: ending of the middle | E14: Disaster
B16: Ending | C16: Title | D16: ='Step 1'!C10 -> Describe the ending of the story (do this second)
C17: =$B$16 & " Part 1" -> Ending Part 1 | D17: beginning of the ending | E17: Plan
C18: =$B$16 & " Part 2" -> Ending Part 2 | D18: early middle of the ending | E18: Climax
C19: =$B$16 & " Part 3" -> Ending Part 3 | D19: late middle of the ending | E19: Climax
C20: =$B$16 & " Part 4" -> Ending Part 4 | D20: ending of the ending | E20: Wrap up

Sheet Step 3
B2: ="Step 3 - " & novel_title & IF(series_name="", "", " (" & series_name & ")") -> Step 3 - Novel Title (Series)
B4: ID | C4: Section | D4: Title | E4: Synopsis | F4: Hide
C5: Beginning Part 1 | D5: ='Step 2'!C5 -> Beginning Part 1 | E5: ='Step 2'!D5 -> beginning of the beginning | F5: =IF(AND(D5="",E5=""), "Y", "N") -> N
B6: 1 | C6: ="Scene " & B6 -> Scene 1 | F6: =IF(AND(D6="",E6=""), "Y", "N") -> Y
B7: =IF(B6="", B5+1, B6+1) -> 2 | C7: ="Scene " & B7 -> Scene 2 | F7: =IF(AND(D7="",E7=""), "Y", "N") -> Y
B8: =IF(B7="", B6+1, B7+1) -> 3 | C8: ="Scene " & B8 -> Scene 3 | F8: =IF(AND(D8="",E8=""), "Y", "N") -> Y
B9: =IF(B8="", B7+1, B8+1) -> 4 | C9: ="Scene " & B9 -> Scene 4 | F9: =IF(AND(D9="",E9=""), "Y", "N") -> Y
B10: =IF(B9="", B8+1, B9+1) -> 5 | C10: ="Scene " & B10 -> Scene 5 | F10: =IF(AND(D10="",E10=""), "Y", "N") -> Y
B11: =IF(B10="", B9+1, B10+1) -> 6 | C11: ="Scene " & B11 -> Scene 6 | F11: =IF(AND(D11="",E11=""), "Y", "N") -> Y
B12: =IF(B11="", B10+1, B11+1) -> 7 | C12: ="Scene " & B12 -> Scene 7 | F12: =IF(AND(D12="",E12=""), "Y", "N") -> Y
B13: =IF(B12="", B11+1, B12+1) -> 8 | C13: ="Scene " & B13 -> Scene 8 | F13: =IF(AND(D13="",E13=""), "Y", "N") -> Y
B14: =IF(B13="", B12+1, B13+1) -> 9 | C14: ="Scene " & B14 -> Scene 9 | F14: =IF(AND(D14="",E14=""), "Y", "N") -> Y
B15: =IF(B14="", B13+1, B14+1) -> 10 | C15: ="Scene " & B15 -> Scene 10 | F15: =IF(AND(D15="",E15=""), "Y", "N") -> Y
C16: Beginning Part 2 | D16: ='Step 2'!C6 -> Beginning Part 2 | E16: ='Step 2'!D6 -> early middle of the beginning | F16: =IF(AND(D16="",E16=""), "Y", "N") -> N
B17: =IF(B16="", B15+1, B16+1) -> 11 | C17: ="Scene " & B17 -> Scene 11 | F17: =IF(AND(D17="",E17=""), "Y", "N") -> Y
B18: =IF(B17="", B16+1, B17+1) -> 12 | C18: ="Scene " & B18 -> Scene 12 | F18: =IF(AND(D18="",E18=""), "Y", "N") -> Y
B19: =IF(B18="", B17+1, B18+1) -> 13 | C19: ="Scene " & B19 -> Scene 13 | F19: =IF(AND(D19="",E19=""), "Y", "N") -> Y
B20: =IF(B19="", B18+1, B19+1) -> 14 | C20: ="Scene " & B20 -> Scene 14 | F20: =IF(AND(D20="",E20=""), "Y", "N") -> Y
B21: =IF(B20="", B19+1, B20+1) -> 15 | C21: ="Scene " & B21 -> Scene 15 | F21: =IF(AND(D21="",E21=""), "Y", "N") -> Y
B22: =IF(B21="", B20+1, B21+1) -> 16 | C22: ="Scene " & B22 -> Scene 16 | F22: =IF(AND(D22="",E22=""), "Y", "N") -> Y
B23: =IF(B22="", B21+1, B22+1) -> 17 | C23: ="Scene " & B23 -> Scene 17 | F23: =IF(AND(D23="",E23=""), "Y", "N") -> Y
B24: =IF(B23="", B22+1, B23+1) -> 18 | C24: ="Scene " & B24 -> Scene 18 | F24: =IF(AND(D24="",E24=""), "Y", "N") -> Y
B25: =IF(B24="", B23+1, B24+1) -> 19 | C25: ="Scene " & B25 -> Scene 19 | F25: =IF(AND(D25="",E25=""), "Y", "N") -> Y
B26: =IF(B25="", B24+1, B25+1) -> 20 | C26: ="Scene " & B26 -> Scene 20 | F26: =IF(AND(D26="",E26=""), "Y", "N") -> Y
C27: Beginning Part 3 | D27: ='Step 2'!C7 -> Beginning Part 3 | E27: ='Step 2'!D7 -> late middle of the beginning | F27: =IF(AND(D27="",E27=""), "Y", "N") -> N
B28: =IF(B27="", B26+1, B27+1) -> 21 | C28: ="Scene " & B28 -> Scene 21 | F28: =IF(AND(D28="",E28=""), "Y", "N") -> Y
B29: =IF(B28="", B27+1, B28+1) -> 22 | C29: ="Scene " & B29 -> Scene 22 | F29: =IF(AND(D29="",E29=""), "Y", "N") -> Y
B30: =IF(B29="", B28+1, B29+1) -> 23 | C30: ="Scene " & B30 -> Scene 23 | F30: =IF(AND(D30="",E30=""), "Y", "N") -> Y
B31: =IF(B30="", B29+1, B30+1) -> 24 | C31: ="Scene " & B31 -> Scene 24 | F31: =IF(AND(D31="",E31=""), "Y", "N") -> Y
B32: =IF(B31="", B30+1, B31+1) -> 25 | C32: ="Scene " & B32 -> Scene 25 | F32: =IF(AND(D32="",E32=""), "Y", "N") -> Y
B33: =IF(B32="", B31+1, B32+1) -> 26 | C33: ="Scene " & B33 -> Scene 26 | F33: =IF(AND(D33="",E33=""), "Y", "N") -> Y
B34: =IF(B33="", B32+1, B33+1) -> 27 | C34: ="Scene " & B34 -> Scene 27 | F34: =IF(AND(D34="",E34=""), "Y", "N") -> Y
B35: =IF(B34="", B33+1, B34+1) -> 28 | C35: ="Scene " & B35 -> Scene 28 | F35: =IF(AND(D35="",E35=""), "Y", "N") -> Y
B36: =IF(B35="", B34+1, B35+1) -> 29 | C36: ="Scene " & B36 -> Scene 29 | F36: =IF(AND(D36="",E36=""), "Y", "N") -> Y
B37: =IF(B36="", B35+1, B36+1) -> 30 | C37: ="Scene " & B37 -> Scene 30 | F37: =IF(AND(D37="",E37=""), "Y", "N") -> Y
C38: Beginning Part 4 | D38: ='Step 2'!C8 -> Beginning Part 4 | E38: ='Step 2'!D8 -> ending of the beginning | F38: =IF(AND(D38="",E38=""), "Y", "N") -> N
B39: =IF(B38="", B37+1, B38+1) -> 31 | C39: ="Scene " & B39 -> Scene 31 | F39: =IF(AND(D39="",E39=""), "Y", "N") -> Y
B40: =IF(B39="", B38+1, B39+1) -> 32 | C40: ="Scene " & B40 -> Scene 32 | F40: =IF(AND(D40="",E40=""), "Y", "N") -> Y
B41: =IF(B40="", B39+1, B40+1) -> 33 | C41: ="Scene " & B41 -> Scene 33 | F41: =IF(AND(D41="",E41=""), "Y", "N") -> Y
B42: =IF(B41="", B40+1, B41+1) -> 34 | C42: ="Scene " & B42 -> Scene 34 | F42: =IF(AND(D42="",E42=""), "Y", "N") -> Y
...

Sheet Scenes
B2: ="Scenes - " & novel_title & IF(series_name="", "", " (" & series_name & ")") -> Scenes - Novel Title (Series)
B4: ID | C4: Scene Title | D4: Ch | E4: POV | F4: Setting | G4: Characters (Initials) | H4: Scene Importance | I4: Purpose | J4: Type | K4: Actual Words | L4: Cumulative Actual Words | M4: Estimated Words | N4: Cumul. Expected Words | O4: Title Length | P4: Hide | Q4: Scene Notes
B5: 1 | C5: =INDEX('Step 3'!$D$6:$D$136,MATCH(Scenes!B5,'Step 3'!$B$6:$B$136,0))&"" | D5: 0 | K5: 0 | L5: =K5 -> 0 | M5: =IFERROR(word_count/scenes_count, 0) -> 0 | N5: =M5 -> 0 | O5: =LEN(TRIM(C5)) -> 0 | P5: =IF(C5="", "Y", "N" ) -> Y
B6: =B5+1 -> 2 | C6: =INDEX('Step 3'!$D$6:$D$136,MATCH(Scenes!B6,'Step 3'!$B$6:$B$136,0))&"" | D6: 0 | K6: 0 | L6: =L5+K6 -> 0 | M6: =IFERROR(word_count/scenes_count, 0) -> 0 | N6: =N5+M6 -> 0 | O6: =LEN(TRIM(C6)) -> 0 | P6: =IF(C6="", "Y", "N" ) -> Y
B7: =B6+1 -> 3 | C7: =INDEX('Step 3'!$D$6:$D$136,MATCH(Scenes!B7,'Step 3'!$B$6:$B$136,0))&"" | D7: 0 | K7: 0 | L7: =L6+K7 -> 0 | M7: =IFERROR(word_count/scenes_count, 0) -> 0 | N7: =N6+M7 -> 0 | O7: =LEN(TRIM(C7)) -> 0 | P7: =IF(C7="", "Y", "N" ) -> Y
B8: =B7+1 -> 4 | C8: =INDEX('Step 3'!$D$6:$D$136,MATCH(Scenes!B8,'Step 3'!$B$6:$B$136,0))&"" | D8: 0 | K8: 0 | L8: =L7+K8 -> 0 | M8: =IFERROR(word_count/scenes_count, 0) -> 0 | N8: =N7+M8 -> 0 | O8: =LEN(TRIM(C8)) -> 0 | P8: =IF(C8="", "Y", "N" ) -> Y
B9: =B8+1 -> 5 | C9: =INDEX('Step 3'!$D$6:$D$136,MATCH(Scenes!B9,'Step 3'!$B$6:$B$136,0))&"" | D9: 0 | K9: 0 | L9: =L8+K9 -> 0 | M9: =IFERROR(word_count/scenes_count, 0) -> 0 | N9: =N8+M9 -> 0 | O9: =LEN(TRIM(C9)) -> 0 | P9: =IF(C9="", "Y", "N" ) -> Y
B10: =B9+1 -> 6 | C10: =INDEX('Step 3'!$D$6:$D$136,MATCH(Scenes!B10,'Step 3'!$B$6:$B$136,0))&"" | D10: 0 | K10: 0 | L10: =L9+K10 -> 0 | M10: =IFERROR(word_count/scenes_count, 0) -> 0 | N10: =N9+M10 -> 0 | O10: =LEN(TRIM(C10)) -> 0 | P10: =IF(C10="", "Y", "N" ) -> Y
B11: =B10+1 -> 7 | C11: =INDEX('Step 3'!$D$6:$D$136,MATCH(Scenes!B11,'Step 3'!$B$6:$B$136,0))&"" | D11: 0 | K11: 0 | L11: =L10+K11 -> 0 | M11: =IFERROR(word_count/scenes_count, 0) -> 0 | N11: =N10+M11 -> 0 | O11: =LEN(TRIM(C11)) -> 0 | P11: =IF(C11="", "Y", "N" ) -> Y
B12: =B11+1 -> 8 | C12: =INDEX('Step 3'!$D$6:$D$136,MATCH(Scenes!B12,'Step 3'!$B$6:$B$136,0))&"" | D12: 0 | K12: 0 | L12: =L11+K12 -> 0 | M12: =IFERROR(word_count/scenes_count, 0) -> 0 | N12: =N11+M12 -> 0 | O12: =LEN(TRIM(C12)) -> 0 | P12: =IF(C12="", "Y", "N" ) -> Y
B13: =B12+1 -> 9 | C13: =INDEX('Step 3'!$D$6:$D$136,MATCH(Scenes!B13,'Step 3'!$B$6:$B$136,0))&"" | D13: 0 | K13: 0 | L13: =L12+K13 -> 0 | M13: =IFERROR(word_count/scenes_count, 0) -> 0 | N13: =N12+M13 -> 0 | O13: =LEN(TRIM(C13)) -> 0 | P13: =IF(C13="", "Y", "N" ) -> Y
B14: =B13+1 -> 10 | C14: =INDEX('Step 3'!$D$6:$D$136,MATCH(Scenes!B14,'Step 3'!$B$6:$B$136,0))&"" | D14: 0 | K14: 0 | L14: =L13+K14 -> 0 | M14: =IFERROR(word_count/scenes_count, 0) -> 0 | N14: =N13+M14 -> 0 | O14: =LEN(TRIM(C14)) -> 0 | P14: =IF(C14="", "Y", "N" ) -> Y
B15: =B14+1 -> 11 | C15: =INDEX('Step 3'!$D$6:$D$136,MATCH(Scenes!B15,'Step 3'!$B$6:$B$136,0))&"" | D15: 0 | K15: 0 | L15: =L14+K15 -> 0 | M15: =IFERROR(word_count/scenes_count, 0) -> 0 | N15: =N14+M15 -> 0 | O15: =LEN(TRIM(C15)) -> 0 | P15: =IF(C15="", "Y", "N" ) -> Y
B16: =B15+1 -> 12 | C16: =INDEX('Step 3'!$D$6:$D$136,MATCH(Scenes!B16,'Step 3'!$B$6:$B$136,0))&"" | D16: 0 | K16: 0 | L16: =L15+K16 -> 0 | M16: =IFERROR(word_count/scenes_count, 0) -> 0 | N16: =N15+M16 -> 0 | O16: =LEN(TRIM(C16)) -> 0 | P16: =IF(C16="", "Y", "N" ) -> Y
B17: =B16+1 -> 13 | C17: =INDEX('Step 3'!$D$6:$D$136,MATCH(Scenes!B17,'Step 3'!$B$6:$B$136,0))&"" | D17: 0 | K17: 0 | L17: =L16+K17 -> 0 | M17: =IFERROR(word_count/scenes_count, 0) -> 0 | N17: =N16+M17 -> 0 | O17: =LEN(TRIM(C17)) -> 0 | P17: =IF(C17="", "Y", "N" ) -> Y
... B124: =B123+1 -> 120 | C124: =INDEX('Step 3'!$D$6:$D$136,MATCH(Scenes!B124,'Step 3'!$B$6:$B$136,0))&"" | D124: 0 | K124: 0 | L124: =L123+K124 -> 0 | M124: =IFERROR(word_count/scenes_count, 0) -> 0 | N124: =N123+M124 -> 0 | O124: =LEN(TRIM(C124)) -> 0 | P124: =IF(C124="", "Y", "N" ) -> Y
K125: =SUM(K5:K124) -> 0 | M125: =SUM(M5:M124) -> 0

Sheet Synopsis
B2: ="Synopsis - " & novel_title & IF(series_name="", "", " (" & series_name & ")") -> Synopsis - Novel Title (Series)
C4: Hide
A5: 1 | B5: =INDEX('Step 3'!$E$6:$E$136,MATCH(Synopsis!A5,'Step 3'!$B$6:$B$136))&"" | C5: =IF(B5="", "Y", "N") -> Y
A6: =A5+1 -> 2 | B6: =INDEX('Step 3'!$E$6:$E$136,MATCH(Synopsis!A6,'Step 3'!$B$6:$B$136))&"" | C6: =IF(B6="", "Y", "N") -> Y
A7: =A6+1 -> 3 | B7: =INDEX('Step 3'!$E$6:$E$136,MATCH(Synopsis!A7,'Step 3'!$B$6:$B$136))&"" | C7: =IF(B7="", "Y", "N") -> Y
A8: =A7+1 -> 4 | B8: =INDEX('Step 3'!$E$6:$E$136,MATCH(Synopsis!A8,'Step 3'!$B$6:$B$136))&"" | C8: =IF(B8="", "Y", "N") -> Y
A9: =A8+1 -> 5 | B9: =INDEX('Step 3'!$E$6:$E$136,MATCH(Synopsis!A9,'Step 3'!$B$6:$B$136))&"" | C9: =IF(B9="", "Y", "N") -> Y
A10: =A9+1 -> 6 | B10: =INDEX('Step 3'!$E$6:$E$136,MATCH(Synopsis!A10,'Step 3'!$B$6:$B$136))&"" | C10: =IF(B10="", "Y", "N") -> Y
A11: =A10+1 -> 7 | B11: =INDEX('Step 3'!$E$6:$E$136,MATCH(Synopsis!A11,'Step 3'!$B$6:$B$136))&"" | C11: =IF(B11="", "Y", "N") -> Y
A12: =A11+1 -> 8 | B12: =INDEX('Step 3'!$E$6:$E$136,MATCH(Synopsis!A12,'Step 3'!$B$6:$B$136))&"" | C12: =IF(B12="", "Y", "N") -> Y
A13: =A12+1 -> 9 | B13: =INDEX('Step 3'!$E$6:$E$136,MATCH(Synopsis!A13,'Step 3'!$B$6:$B$136))&"" | C13: =IF(B13="", "Y", "N") -> Y
A14: =A13+1 -> 10 | B14: =INDEX('Step 3'!$E$6:$E$136,MATCH(Synopsis!A14,'Step 3'!$B$6:$B$136))&"" | C14: =IF(B14="", "Y", "N") -> Y
A15: =A14+1 -> 11 | B15: =INDEX('Step 3'!$E$6:$E$136,MATCH(Synopsis!A15,'Step 3'!$B$6:$B$136))&"" | C15: =IF(B15="", "Y", "N") -> Y
A16: =A15+1 -> 12 | B16: =INDEX('Step 3'!$E$6:$E$136,MATCH(Synopsis!A16,'Step 3'!$B$6:$B$136))&"" | C16: =IF(B16="", "Y", "N") -> Y
A17: =A16+1 -> 13 | B17: =INDEX('Step 3'!$E$6:$E$136,MATCH(Synopsis!A17,'Step 3'!$B$6:$B$136))&"" | C17: =IF(B17="", "Y", "N") -> Y
... A124: =A123+1 -> 120 | B124: =INDEX('Step 3'!$E$6:$E$136,MATCH(Synopsis!A124,'Step 3'!$B$6:$B$136))&"" | C124: =IF(B124="", "Y", "N") -> Y

Sheet Characters
B2: ="Characters - " & novel_title & IF(series_name="", "", " (" & series_name & ")") -> Characters - Novel Title (Series)
B4: Salutation | C4: First Name (input) | D4: Last Name (input) | E4: Full Name | F4: Nickname | G4: Initials (formula) | H4: Role | I4: Relation | J4: Locations | K4: Notes | N4: How many first names begin with a letter?
C5: FirstName | D5: LastName | E5: =TRIM(IF(AND(C5="",D5=""), "", C5 & " " & D5)) -> FirstName LastName | G5: =IF(LEN(C5)<1, "", LEFT(C5,1)) & IF(LEN(D5)<1, "", LEFT(D5,1)) -> FL | N5: Letter | O5: Count
E6: =TRIM(IF(AND(C6="",D6=""), "", C6 & " " & D6)) | G6: =IF(LEN(C6)<1, "", LEFT(C6,1)) & IF(LEN(D6)<1, "", LEFT(D6,1)) | N6: A | O6: =COUNTIFS(C:C,N6&"*",C:C,LOWER(N6)&"*") -> 0
E7: =TRIM(IF(AND(C7="",D7=""), "", C7 & " " & D7)) | G7: =IF(LEN(C7)<1, "", LEFT(C7,1)) & IF(LEN(D7)<1, "", LEFT(D7,1)) | N7: B | O7: =COUNTIFS(C:C,N7&"*",C:C,LOWER(N7)&"*") -> 0
E8: =TRIM(IF(AND(C8="",D8=""), "", C8 & " " & D8)) | G8: =IF(LEN(C8)<1, "", LEFT(C8,1)) & IF(LEN(D8)<1, "", LEFT(D8,1)) | N8: C | O8: =COUNTIFS(C:C,N8&"*",C:C,LOWER(N8)&"*") -> 0
E9: =TRIM(IF(AND(C9="",D9=""), "", C9 & " " & D9)) | G9: =IF(LEN(C9)<1, "", LEFT(C9,1)) & IF(LEN(D9)<1, "", LEFT(D9,1)) | N9: D | O9: =COUNTIFS(C:C,N9&"*",C:C,LOWER(N9)&"*") -> 0
E10: =TRIM(IF(AND(C10="",D10=""), "", C10 & " " & D10)) | G10: =IF(LEN(C10)<1, "", LEFT(C10,1)) & IF(LEN(D10)<1, "", LEFT(D10,1)) | N10: N | O10: =COUNTIFS(C:C,N10&"*",C:C,LOWER(N10)&"*") -> 0
E11: =TRIM(IF(AND(C11="",D11=""), "", C11 & " " & D11)) | G11: =IF(LEN(C11)<1, "", LEFT(C11,1)) & IF(LEN(D11)<1, "", LEFT(D11,1)) | N11: P | O11: =COUNTIFS(C:C,N11&"*",C:C,LOWER(N11)&"*") -> 0
E12: =TRIM(IF(AND(C12="",D12=""), "", C12 & " " & D12)) | G12: =IF(LEN(C12)<1, "", LEFT(C12,1)) & IF(LEN(D12)<1, "", LEFT(D12,1)) | N12: K | O12: =COUNTIFS(C:C,N12&"*",C:C,LOWER(N12)&"*") -> 0
E13: =TRIM(IF(AND(C13="",D13=""), "", C13 & " " & D13)) | G13: =IF(LEN(C13)<1, "", LEFT(C13,1)) & IF(LEN(D13)<1, "", LEFT(D13,1)) | N13: L | O13: =COUNTIFS(C:C,N13&"*",C:C,LOWER(N13)&"*") -> 0
E14: =TRIM(IF(AND(C14="",D14=""), "", C14 & " " & D14)) | G14: =IF(LEN(C14)<1, "", LEFT(C14,1)) & IF(LEN(D14)<1, "", LEFT(D14,1)) | N14: M | O14: =COUNTIFS(C:C,N14&"*",C:C,LOWER(N14)&"*") -> 0
E15: =TRIM(IF(AND(C15="",D15=""), "", C15 & " " & D15)) | G15: =IF(LEN(C15)<1, "", LEFT(C15,1)) & IF(LEN(D15)<1, "", LEFT(D15,1)) | N15: E | O15: =COUNTIFS(C:C,N15&"*",C:C,LOWER(N15)&"*") -> 0
E16: =TRIM(IF(AND(C16="",D16=""), "", C16 & " " & D16)) | G16: =IF(LEN(C16)<1, "", LEFT(C16,1)) & IF(LEN(D16)<1, "", LEFT(D16,1)) | N16: F | O16: =COUNTIFS(C:C,N16&"*",C:C,LOWER(N16)&"*") -> 1
E17: =TRIM(IF(AND(C17="",D17=""), "", C17 & " " & D17)) | G17: =IF(LEN(C17)<1, "", LEFT(C17,1)) & IF(LEN(D17)<1, "", LEFT(D17,1)) | N17: G | O17: =COUNTIFS(C:C,N17&"*",C:C,LOWER(N17)&"*") -> 0
... E31: =TRIM(IF(AND(C31="",D31=""), "", C31 & " " & D31)) | G31: =IF(LEN(C31)<1, "", LEFT(C31,1)) & IF(LEN(D31)<1, "", LEFT(D31,1)) | N31: Z | O31: =COUNTIFS(C:C,N31&"*",C:C,LOWER(N31)&"*") -> 0

Sheet Glossary
B2: ="Glossary - " & novel_title & IF(series_name="", "", " (" & series_name & ")") -> Glossary - Novel Title (Series)
B4: Concept / Idea | C4: Details

Sheet Major
A1: ="Main Character Detail - " & B2 -> Main Character Detail -
A2: Full Name
A3: Nickname
A4: Gender
A5: Date of Birth
A6: Place of Birth
A7: Father's Name
A8: Mother's Name
A9: Ethnic Background / Race
A10: Religion
A11: Sexual Orientation
A12: Languages Spoken
A13: Age
... A37: Life Philosophy
A39: Character Questionaire | B39: Answer
A40: Are there any distinguishing facial features?
A41: Any birthmarks or scars?
A42: ="Who are " & B2 & "'s friends?" -> Who are 's friends?
A43: ="Who is "&B2&" closest to?" -> Who is closest to?
A44: ="What happens when "&B2&" is angry?" -> What happens when is angry?
A45: ="What is " & B2 & "'s biggest fear? Who has he told this to? Who he would never tell this to?" -> What is 's biggest fear? Who has he told this to? Who he would never tell this to?
A46: ="Does "&IF(B4="Male","he",IF(B4="Female","she","he/she")) &" have a secret?" -> Does he/she have a secret?
A47: ="What makes " & B2 & " laugh out loud?" -> What makes laugh out loud?
A48: ="Has "&IF(B4="Male","he",IF(B4="Female","she","he/she")) &" been in love? Had a broken heart?" -> Has he/she been in love? Had a broken heart?
A49: ="If " & B3 & " could have a superpower, what would it be?" -> If could have a superpower, what would it be?
A50: ="What does " & B2 & " likes to eat?" -> What does likes to eat?
A51: ="What does "&IF(B4="Male","he",IF(B4="Female","she","he/she")) &" like to read?" -> What does he/she like to read?
A52: What about sports?
A53: ="What does "&B2&" like to wear on various occassions?" -> What does like to wear on various occassions?
A54: Verbal Idiosyncrasies / Speaking maneurism
A55: Physical Idiosyncrasies / Noticeable body language
A56: ="When " & B2 & " thinks of " & IF(B4="Male","his",IF(B4="Female","her","his/her")) & " childhood kitchen, what smell does " & IF(B4="Male","he",IF(B4="Female","she","he/she")) & " remember? Why?" -> When thinks of his/her childhood kitchen, what smell does he/she remember? Why?
A57: ="Spring cleaning is due. What does " & B2 & " throw easily and what is " & IF(B4="Male","he",IF(B4="Female","she","he/she")) & " holding on to?" -> Spring cleaning is due. What does throw easily and what is he/she holding on to?
A58: ="What is " & B2 & " doing over the weekend" -> What is doing over the weekend
A59: ="What is " & B2 & "'s strongest bad memory?" -> What is 's strongest bad memory?
A60: ="What is " & B2 & "'s strongest good memory?" -> What is 's strongest good memory?
A61: ="What is " & B2 & "'s idea of perfect happiness?" -> What is 's idea of perfect happiness?
A62: ="What does " & B2 & " think was " & IF(B4="Male","his",IF(B4="Female","her","his/her")) & " greatest achievement to date?" -> What does think was his/her greatest achievement to date?
A63: ="What is " & B2 & "'s favorite occupation?" -> What is 's favorite occupation?
A64: ="What is " & B2 & "s most treasured posession?" -> What is s most treasured posession?
...

Sheet Minor
A1: ="Minor Character Detail - " & B2 -> Minor Character Detail -
A2: Full Name
A3: Nickname
A4: Gender
A5: Date of Birth
A6: Place of Birth
A7: Father's Name
A8: Mother's Name
A9: Ethnic Background / Race
A10: Religion
A11: Sexual Orientation
A12: Languages Spoken
A13: Age
... A23: Skin Color
A25: Question | B25: Answer
A26: Are there any distinguishing facial features?
A27: Any birthmarks or scars?
A28: ="Who are " & B2 & "'s friends?" -> Who are 's friends?
A29: ="Who is "&B2&" closest to?" -> Who is closest to?
A30: ="What happens when " & B2 & " is angry?" -> What happens when is angry?
A31: Verbal Idiosyncrasies
A32: Physical Idiosyncrasies
A33: ="How does " & B2 & " know the main character?" -> How does know the main character?
A34: Any other significant connections?
A35: What do others think of this character?
A36: Any special or relevant skills?
A37: Major flaws
A39: Attributes | B39: Answer 1 - 10
A40: Intelligence | B40: 1
A41: Physical Strength | B41: 1
A42: Charisma | B42: 1
A43: Dexterity | B43: 1
A44: Propensity for Evil | B44: 1
A45: Propensity for Good | B45: 1
A46: Wisdom | B46: 1

Sheet Word-Tracker
A1: Words Tracker | C1: =novel_title -> Novel Title
A2: Date Started | C2: =start_date -> 43831
A3: Estimated Completion | C3: =Setup!C14 -> 43921
A4: Target Word Count | C4: =word_count -> 80000
A5: Completed Word Count | C5: =C208 -> 0
A6: Number of writing sessions | C6: =COUNTIFS(C12:C206, "<>0") -> 0
A7: Estimated Words per Day | C7: =IFERROR(C4/(C3-C2), 0) -> 888.88889
A8: Actual Average Words per Session | C8: =IF(session_count=0,0,total_wc/session_count) -> 0 | D8: =IF(C8>=C7, "(ahead)", "(behind)") -> (behind)
A9: Completion | C9: =MIN(100%,MAX(D12:D206)) -> 0
A11: Date | B11: Total Word Count | C11: Session Word Count | D11: % Completed
B12: 0 | C12: =B12 -> 0 | D12: =IFERROR(B12/$C$4, 0) -> 0
B13: 0 | C13: =IF(B13=0,0,B13-B12) -> 0 | D13: =IFERROR(B13/$C$4, 0) -> 0
B14: 0 | C14: =IF(B14=0,0,B14-B13) -> 0 | D14: =IFERROR(B14/$C$4, 0) -> 0
B15: 0 | C15: =IF(B15=0,0,B15-B14) -> 0 | D15: =IFERROR(B15/$C$4, 0) -> 0
B16: 0 | C16: =IF(B16=0,0,B16-B15) -> 0 | D16: =IFERROR(B16/$C$4, 0) -> 0
B17: 0 | C17: =IF(B17=0,0,B17-B16) -> 0 | D17: =IFERROR(B17/$C$4, 0) -> 0
B18: 0 | C18: =IF(B18=0,0,B18-B17) -> 0 | D18: =IFERROR(B18/$C$4, 0) -> 0
B19: 0 | C19: =IF(B19=0,0,B19-B18) -> 0 | D19: =IFERROR(B19/$C$4, 0) -> 0
B20: 0 | C20: =IF(B20=0,0,B20-B19) -> 0 | D20: =IFERROR(B20/$C$4, 0) -> 0
B21: 0 | C21: =IF(B21=0,0,B21-B20) -> 0 | D21: =IFERROR(B21/$C$4, 0) -> 0
B22: 0 | C22: =IF(B22=0,0,B22-B21) -> 0 | D22: =IFERROR(B22/$C$4, 0) -> 0
B23: 0 | C23: =IF(B23=0,0,B23-B22) -> 0 | D23: =IFERROR(B23/$C$4, 0) -> 0
B24: 0 | C24: =IF(B24=0,0,B24-B23) -> 0 | D24: =IFERROR(B24/$C$4, 0) -> 0
... B206: 0 | C206: =IF(B206=0,0,B206-B205) -> 0 | D206: =IFERROR(B206/$C$4, 0) -> 0
A208: Total WC | B208: =MAX(B12:B206) -> 0 | C208: =SUM(C12:C206) -> 0

Sheet Chapters
B2: ="Chapters - " & novel_title & IF(series_name="", "", " (" & series_name & ")") -> Chapters - Novel Title (Series)
B4: Chapter | C4: Scenes | D4: Words | E4: Hide
B5: 1 | C5: =COUNTIF(Scenes!$D$5:$D$124, $B5) -> 0 | D5: =SUMIF(Scenes!$D$5:$D$124, $B5, Scenes!$K$5:$K$124) -> 0 | E5: =IF(C5+D5=0, "Y", "N") -> Y
B6: 2 | C6: =COUNTIF(Scenes!$D$5:$D$124, $B6) -> 0 | D6: =SUMIF(Scenes!$D$5:$D$124, $B6, Scenes!$K$5:$K$124) -> 0 | E6: =IF(C6+D6=0, "Y", "N") -> Y
B7: 3 | C7: =COUNTIF(Scenes!$D$5:$D$124, $B7) -> 0 | D7: =SUMIF(Scenes!$D$5:$D$124, $B7, Scenes!$K$5:$K$124) -> 0 | E7: =IF(C7+D7=0, "Y", "N") -> Y
B8: 4 | C8: =COUNTIF(Scenes!$D$5:$D$124, $B8) -> 0 | D8: =SUMIF(Scenes!$D$5:$D$124, $B8, Scenes!$K$5:$K$124) -> 0 | E8: =IF(C8+D8=0, "Y", "N") -> Y
B9: 5 | C9: =COUNTIF(Scenes!$D$5:$D$124, $B9) -> 0 | D9: =SUMIF(Scenes!$D$5:$D$124, $B9, Scenes!$K$5:$K$124) -> 0 | E9: =IF(C9+D9=0, "Y", "N") -> Y
B10: 6 | C10: =COUNTIF(Scenes!$D$5:$D$124, $B10) -> 0 | D10: =SUMIF(Scenes!$D$5:$D$124, $B10, Scenes!$K$5:$K$124) -> 0 | E10: =IF(C10+D10=0, "Y", "N") -> Y
B11: 7 | C11: =COUNTIF(Scenes!$D$5:$D$124, $B11) -> 0 | D11: =SUMIF(Scenes!$D$5:$D$124, $B11, Scenes!$K$5:$K$124) -> 0 | E11: =IF(C11+D11=0, "Y", "N") -> Y
B12: 8 | C12: =COUNTIF(Scenes!$D$5:$D$124, $B12) -> 0 | D12: =SUMIF(Scenes!$D$5:$D$124, $B12, Scenes!$K$5:$K$124) -> 0 | E12: =IF(C12+D12=0, "Y", "N") -> Y
B13: 9 | C13: =COUNTIF(Scenes!$D$5:$D$124, $B13) -> 0 | D13: =SUMIF(Scenes!$D$5:$D$124, $B13, Scenes!$K$5:$K$124) -> 0 | E13: =IF(C13+D13=0, "Y", "N") -> Y
B14: 10 | C14: =COUNTIF(Scenes!$D$5:$D$124, $B14) -> 0 | D14: =SUMIF(Scenes!$D$5:$D$124, $B14, Scenes!$K$5:$K$124) -> 0 | E14: =IF(C14+D14=0, "Y", "N") -> Y
B15: 11 | C15: =COUNTIF(Scenes!$D$5:$D$124, $B15) -> 0 | D15: =SUMIF(Scenes!$D$5:$D$124, $B15, Scenes!$K$5:$K$124) -> 0 | E15: =IF(C15+D15=0, "Y", "N") -> Y
B16: 12 | C16: =COUNTIF(Scenes!$D$5:$D$124, $B16) -> 0 | D16: =SUMIF(Scenes!$D$5:$D$124, $B16, Scenes!$K$5:$K$124) -> 0 | E16: =IF(C16+D16=0, "Y", "N") -> Y
... B64: 60 | C64: =COUNTIF(Scenes!$D$5:$D$124, $B64) -> 0 | D64: =SUMIF(Scenes!$D$5:$D$124, $B64, Scenes!$K$5:$K$124) -> 0 | E64: =IF(C64+D64=0, "Y", "N") -> Y
C65: =SUM(C5:C64) -> 0 | D65: =SUM(D5:D64) -> 0

Sheet Data
B3: Scene Count | C3: =COUNTIFS(Scenes!O5:O124, "<>0") -> 0 | F3: Scene Importance | H3: Scene Type | J3: Scene Purpose
B4: Chapter Count | C4: =MAX(Scenes!$D$5:$D$124) -> 0 | F4: Major | H4: Active | J4: Introduce conflict
F5: Minor | H5: Reactive | J5: Intensify conflict
J6: Introduce character
J7: Develop character
J8: Introduce themes
J9: Establish mood
J10: Establish setting
J11: Build suspense
J12: Dramatize events
J13: Move plot forward
J14: Provide resolution
J15: Foreshadow
J16: Add emotional connection
